BEGIN:VCALENDAR
VERSION:2.0
PRODID:-//dsnmc.org//NONSGML kigkonsult.se iCalcreator 2.30.10//
CALSCALE:GREGORIAN
METHOD:PUBLISH
UID:b3207f8e-40a9-4d1d-8b98-99c39480698a
X-WR-CALDESC:Únase a nuestras reuniones en español el segundo lunes de cada
  mes. Envíe un correo electrónico a nuestro coordinador de grupo latino pa
 ra recibir la información de la reunión de Zoom.\n\nCome join our all-Span
 ish meetings the second Monday of every month. Email our Latino group coor
 dinator to receive the Zoom meeting information.
X-WR-RELCALID:c55b746fe25941fc0f660ebfb6f2b5f1
X-WR-TIMEZONE:America/New_York
BEGIN:VTIMEZONE
TZID:America/New_York
BEGIN:STANDARD
TZNAME:EST
DTSTART:20231105T020000
TZOFFSETFROM:-0400
TZOFFSETTO:-0500
RDATE:20241103T020000
END:STANDARD
BEGIN:DAYLIGHT
TZNAME:EDT
DTSTART:20230312T020000
TZOFFSETFROM:-0500
TZOFFSETTO:-0400
RDATE:20240310T020000
RDATE:20250309T020000
END:DAYLIGHT
END:VTIMEZONE
BEGIN:VEVENT
UID:c29d615b-6bfc-404c-83dc-61f2c320e80f
DTSTAMP:20260420T030909Z
DESCRIPTION:Únase a nuestras reuniones en español el segundo lunes de cada 
 mes. Envíe un correo electrónico a nuestro coordinador de grupo latino par
 a recibir la información de la reunión de Zoom.\n\nCome join our all-Spani
 sh meetings the second Monday of every month. Email our Latino group coord
 inator to receive the Zoom meeting information.
DTSTART;TZID=America/New_York:20240212T193000
DTEND;TZID=America/New_York:20240212T210000
LOCATION:https://us02web.zoom.us/j/85698498039
SUMMARY:DSNMC Grupo Latino Meeting
END:VEVENT
END:VCALENDAR
