BEGIN:VCALENDAR
VERSION:2.0
PRODID:-//dsnmc.org//NONSGML kigkonsult.se iCalcreator 2.30.10//
CALSCALE:GREGORIAN
METHOD:PUBLISH
UID:b913778e-4006-4340-b093-14c927f7a65b
X-WR-CALDESC:The DSNMC Education Committee is now meeting on the third Thur
 sday of each month from 7:15 pm - 8:15 pm\, and new members are welcome to
  join the committee.\n\nCo-chairs: \nKalani Brown (kalaniuke@hotmail.com) 
 and Carrie Swann (carrie.swann@gmail.com)\n\nJoin Zoom Meeting\nhttps://us
 02web.zoom.us/j/86288520613?pwd=TmIyZ3JDcmVCRUNuanRRWWNwT2h6QT09\n\nMeetin
 g ID: 862 8852 0613\nPasscode: 785188\nOne tap mobile\n+13017158592
X-WR-RELCALID:7f25961d4112ace57207b86c124617bd
X-WR-TIMEZONE:America/New_York
BEGIN:VTIMEZONE
TZID:America/New_York
BEGIN:STANDARD
TZNAME:EST
DTSTART:20231105T020000
TZOFFSETFROM:-0400
TZOFFSETTO:-0500
RDATE:20241103T020000
END:STANDARD
BEGIN:DAYLIGHT
TZNAME:EDT
DTSTART:20230312T020000
TZOFFSETFROM:-0500
TZOFFSETTO:-0400
RDATE:20240310T020000
RDATE:20250309T020000
END:DAYLIGHT
END:VTIMEZONE
BEGIN:VEVENT
UID:02dde8ed-be3a-4580-896f-dcf68a47c2c9
DTSTAMP:20260420T030736Z
DESCRIPTION:The DSNMC Education Committee is now meeting on the third Thurs
 day of each month from 7:15 pm - 8:15 pm\, and new members are welcome to 
 join the committee.\n\nCo-chairs: \nKalani Brown (kalaniuke@hotmail.com) a
 nd Carrie Swann (carrie.swann@gmail.com)\n\nJoin Zoom Meeting\nhttps://us0
 2web.zoom.us/j/86288520613?pwd=TmIyZ3JDcmVCRUNuanRRWWNwT2h6QT09\n\nMeeting
  ID: 862 8852 0613\nPasscode: 785188\nOne tap mobile\n+13017158592
DTSTART;TZID=America/New_York:20240215T191500
DTEND;TZID=America/New_York:20240215T201500
LOCATION:
SUMMARY:DSNMC Education Committee Meeting
END:VEVENT
END:VCALENDAR
