BEGIN:VCALENDAR
VERSION:2.0
PRODID:-//dsnmc.org//NONSGML kigkonsult.se iCalcreator 2.30.10//
CALSCALE:GREGORIAN
METHOD:PUBLISH
UID:cf497d99-b341-413e-9204-0103525c74c7
X-WR-CALDESC:Calling all those interested in Transitioning Youth and Adults
  with Down Syndrome.\nMeet others who are asking the same questions and fi
 nding innovative solutions.\nJoin the newly forming DSNMC Committee focuse
 d on transitioning youth and adults.  We welcome your ideas and your energ
 y.\n\nWe will have a virtual meeting on February 22nd\, from 7-8 pm.  Plea
 se join us for this important meeting.\n\nThe Zoom link is https://umd.zoo
 m.us/j/2049447578\n\nFor more information\, contact Nancy Forsythe nancy@d
 snmc.org
X-WR-RELCALID:9a038df669c74b4d033442ed30ddb249
X-WR-TIMEZONE:America/New_York
BEGIN:VTIMEZONE
TZID:America/New_York
BEGIN:STANDARD
TZNAME:EST
DTSTART:20231105T020000
TZOFFSETFROM:-0400
TZOFFSETTO:-0500
RDATE:20241103T020000
END:STANDARD
BEGIN:DAYLIGHT
TZNAME:EDT
DTSTART:20230312T020000
TZOFFSETFROM:-0500
TZOFFSETTO:-0400
RDATE:20240310T020000
RDATE:20250309T020000
END:DAYLIGHT
END:VTIMEZONE
BEGIN:VEVENT
UID:0b78ddf5-2b23-4545-aa18-d775176ea5fa
DTSTAMP:20260420T031421Z
DESCRIPTION:Calling all those interested in Transitioning Youth and Adults 
 with Down Syndrome.\nMeet others who are asking the same questions and fin
 ding innovative solutions.\nJoin the newly forming DSNMC Committee focused
  on transitioning youth and adults.  We welcome your ideas and your energy
 .\n\nWe will have a virtual meeting on February 22nd\, from 7-8 pm.  Pleas
 e join us for this important meeting.\n\nThe Zoom link is https://umd.zoom
 .us/j/2049447578\n\nFor more information\, contact Nancy Forsythe nancy@ds
 nmc.org
DTSTART;TZID=America/New_York:20240222T190000
DTEND;TZID=America/New_York:20240222T200000
LOCATION:
SUMMARY:DSNMC Transitioning Youth/Adult Committee
END:VEVENT
END:VCALENDAR
