BEGIN:VCALENDAR
VERSION:2.0
PRODID:-//dsnmc.org//NONSGML kigkonsult.se iCalcreator 2.30.10//
CALSCALE:GREGORIAN
METHOD:PUBLISH
UID:045a6bd1-a7b8-4ab3-8e45-41fdcafa0bab
X-WR-CALDESC:Support DSNMC while having fun!\nAll teens and Self-advocates 
 are invited to assist us with pairing mismatched socks on Friday\, Februar
 y 23rd. These socks will be used to help celebrate World Down Syndrome Day
 .\n\nThe classroom at MainStreet has been reserved from 6:30 - 8:30 pm on 
 Friday\, February 23rd for this activity.\n\nMCPS students will be awarded
  SSL hours for assisting with this important and fun project.\n\nIn order 
 to keep the socks clean\, please eat dinner before you arrive. DSNMC will 
 provide drinks.
X-WR-RELCALID:1a77d12d4483817e634a34b32fe243bb
X-WR-TIMEZONE:America/New_York
BEGIN:VTIMEZONE
TZID:America/New_York
BEGIN:STANDARD
TZNAME:EST
DTSTART:20231105T020000
TZOFFSETFROM:-0400
TZOFFSETTO:-0500
RDATE:20241103T020000
END:STANDARD
BEGIN:DAYLIGHT
TZNAME:EDT
DTSTART:20230312T020000
TZOFFSETFROM:-0500
TZOFFSETTO:-0400
RDATE:20240310T020000
RDATE:20250309T020000
END:DAYLIGHT
END:VTIMEZONE
BEGIN:VEVENT
UID:4389a0c8-c2f0-4184-912e-643009eca503
DTSTAMP:20260420T030052Z
DESCRIPTION:Support DSNMC while having fun!\nAll teens and Self-advocates a
 re invited to assist us with pairing mismatched socks on Friday\, February
  23rd. These socks will be used to help celebrate World Down Syndrome Day.
 \n\nThe classroom at MainStreet has been reserved from 6:30 - 8:30 pm on F
 riday\, February 23rd for this activity.\n\nMCPS students will be awarded 
 SSL hours for assisting with this important and fun project.\n\nIn order t
 o keep the socks clean\, please eat dinner before you arrive. DSNMC will p
 rovide drinks.
DTSTART;TZID=America/New_York:20240223T183000
DTEND;TZID=America/New_York:20240223T203000
LOCATION:Main Street (1st floor classroom)\, 50 Monroe Place\, Rockville\, 
 MD 20850 US
SUMMARY:WDSD Sock Sorting Event
END:VEVENT
END:VCALENDAR
