BEGIN:VCALENDAR
VERSION:2.0
PRODID:-//dsnmc.org//NONSGML kigkonsult.se iCalcreator 2.30.10//
CALSCALE:GREGORIAN
METHOD:PUBLISH
UID:152c54cb-d743-4d60-8176-24a2af84a2bd
X-WR-CALDESC:Join your friends in person for a Positively Speaking by Art S
 tream class on February 25th\, from 3:00 - 4:30. While the self-advocates 
 are working on communication skills\, there will be a separate room availa
 ble for parents to congregate\, share resources\, and socialize.\n\nThis m
 onth's theme is World Down Syndrome Day PSA (Public Service Announcement).
  Join us for this energetic workshop where we explore the theme 'We Write 
 Our Own Stories.' We will create a short video to share with others using 
 all our own ideas!! Get ready to be camera-ready!!\n\nThis class is limite
 d to 15 participants.\n\n
X-WR-RELCALID:fe00b136439e21e5bb52cd5aae75b623
X-WR-TIMEZONE:America/New_York
BEGIN:VTIMEZONE
TZID:America/New_York
BEGIN:STANDARD
TZNAME:EST
DTSTART:20231105T020000
TZOFFSETFROM:-0400
TZOFFSETTO:-0500
RDATE:20241103T020000
END:STANDARD
BEGIN:DAYLIGHT
TZNAME:EDT
DTSTART:20230312T020000
TZOFFSETFROM:-0500
TZOFFSETTO:-0400
RDATE:20240310T020000
RDATE:20250309T020000
END:DAYLIGHT
END:VTIMEZONE
BEGIN:VEVENT
UID:626a98a6-8a1f-407b-8e05-9937fa8681a4
DTSTAMP:20260420T030123Z
DESCRIPTION:Join your friends in person for a Positively Speaking by Art St
 ream class on February 25th\, from 3:00 - 4:30. While the self-advocates a
 re working on communication skills\, there will be a separate room availab
 le for parents to congregate\, share resources\, and socialize.\n\nThis mo
 nth's theme is World Down Syndrome Day PSA (Public Service Announcement). 
 Join us for this energetic workshop where we explore the theme 'We Write O
 ur Own Stories.' We will create a short video to share with others using a
 ll our own ideas!! Get ready to be camera-ready!!\n\nThis class is limited
  to 15 participants.\n\n
DTSTART;TZID=America/New_York:20240225T150000
DTEND;TZID=America/New_York:20240225T163000
LOCATION:North  Chevy Chase Christian Church\, 8814 Kensington Parkway\, Ch
 evy Chase\, MD 20815 US
SUMMARY:ArtStream Positively Speaking Workshop
END:VEVENT
END:VCALENDAR
