BEGIN:VCALENDAR
VERSION:2.0
PRODID:-//dsnmc.org//NONSGML kigkonsult.se iCalcreator 2.30.10//
CALSCALE:GREGORIAN
METHOD:PUBLISH
UID:b3442d77-7ca4-423d-9f45-87c7914d4dd9
X-WR-CALDESC:Families often experience anxiety when their\nson or daughter 
 with intellectual disabilities begins to exhibit changes that occur during
 \npuberty. In this workshop\, parents will learn about the most frequently
  identified issues and\nconcerns of parents of tweens with I/DD and practi
 cal ways to address them. Ideas for\nteaching\, home activities\, and usef
 ul resources specifically designed for individuals with\nintellectual disa
 bilities will be shared.
X-WR-RELCALID:7fd8a821058859518bacd304e55a8a94
X-WR-TIMEZONE:America/New_York
BEGIN:VTIMEZONE
TZID:America/New_York
BEGIN:STANDARD
TZNAME:EST
DTSTART:20231105T020000
TZOFFSETFROM:-0400
TZOFFSETTO:-0500
RDATE:20241103T020000
END:STANDARD
BEGIN:DAYLIGHT
TZNAME:EDT
DTSTART:20230312T020000
TZOFFSETFROM:-0500
TZOFFSETTO:-0400
RDATE:20240310T020000
RDATE:20250309T020000
END:DAYLIGHT
END:VTIMEZONE
BEGIN:VEVENT
UID:2719727a-d141-43e2-b4eb-3ed5143cfd57
DTSTAMP:20260420T014755Z
DESCRIPTION:Families often experience anxiety when their\nson or daughter w
 ith intellectual disabilities begins to exhibit changes that occur during
 \npuberty. In this workshop\, parents will learn about the most frequently
  identified issues and\nconcerns of parents of tweens with I/DD and practi
 cal ways to address them. Ideas for\nteaching\, home activities\, and usef
 ul resources specifically designed for individuals with\nintellectual disa
 bilities will be shared.
DTSTART;TZID=America/New_York:20240306T060000
DTEND;TZID=America/New_York:20240306T060001
LOCATION:
SUMMARY:Supporting Sexuality During Pubescence
END:VEVENT
END:VCALENDAR
