BEGIN:VCALENDAR
VERSION:2.0
PRODID:-//dsnmc.org//NONSGML kigkonsult.se iCalcreator 2.30.10//
CALSCALE:GREGORIAN
METHOD:PUBLISH
UID:c9708cc6-f70e-4e15-afb8-2fb3d43d5b18
X-WR-CALDESC:Join our Teen Hangout program every Thursday at 6:30 via Zoom!
  For Ages 13 - 19. Families are welcome to join.
X-WR-RELCALID:51664fc6d6621bfc6e0d535291d76394
X-WR-TIMEZONE:America/New_York
BEGIN:VTIMEZONE
TZID:America/New_York
BEGIN:STANDARD
TZNAME:EST
DTSTART:20231105T020000
TZOFFSETFROM:-0400
TZOFFSETTO:-0500
RDATE:20241103T020000
END:STANDARD
BEGIN:DAYLIGHT
TZNAME:EDT
DTSTART:20230312T020000
TZOFFSETFROM:-0500
TZOFFSETTO:-0400
RDATE:20240310T020000
RDATE:20250309T020000
END:DAYLIGHT
END:VTIMEZONE
BEGIN:VEVENT
UID:9ecb2c2e-9232-440d-a0eb-541b87048211
DTSTAMP:20260420T015224Z
DESCRIPTION:Join our Teen Hangout program every Thursday at 6:30 via Zoom! 
 For Ages 13 - 19. Families are welcome to join.
DTSTART;TZID=America/New_York:20240307T183000
DTEND;TZID=America/New_York:20240307T190000
LOCATION:https://us02web.zoom.us/j/83919769645
SUMMARY:Teen Hangout Social Meetings
END:VEVENT
END:VCALENDAR
