BEGIN:VCALENDAR
VERSION:2.0
PRODID:-//dsnmc.org//NONSGML kigkonsult.se iCalcreator 2.30.10//
CALSCALE:GREGORIAN
METHOD:PUBLISH
UID:27874863-8943-41e2-ad41-d5b9f4aa9254
X-WR-CALDESC:In this session participants will learn common reasons for bou
 ndary confusion in individuals with I/DD\,\nwhy boundaries are important\,
  and important aspects of boundary instruction.
X-WR-RELCALID:74a6e2ab542bc6603353b282b9ca9c02
X-WR-TIMEZONE:America/New_York
BEGIN:VTIMEZONE
TZID:America/New_York
BEGIN:STANDARD
TZNAME:EST
DTSTART:20231105T020000
TZOFFSETFROM:-0400
TZOFFSETTO:-0500
RDATE:20241103T020000
END:STANDARD
BEGIN:DAYLIGHT
TZNAME:EDT
DTSTART:20230312T020000
TZOFFSETFROM:-0500
TZOFFSETTO:-0400
RDATE:20240310T020000
RDATE:20250309T020000
END:DAYLIGHT
END:VTIMEZONE
BEGIN:VEVENT
UID:f5917c3a-4254-459d-b8e8-d139a308f5b4
DTSTAMP:20260420T015020Z
DESCRIPTION:In this session participants will learn common reasons for boun
 dary confusion in individuals with I/DD\,\nwhy boundaries are important\, 
 and important aspects of boundary instruction.
DTSTART;TZID=America/New_York:20240307T190000
DTEND;TZID=America/New_York:20240307T210000
LOCATION:
SUMMARY:Navigating Boundary Confusion in People with I/DD
END:VEVENT
END:VCALENDAR
