BEGIN:VCALENDAR
VERSION:2.0
PRODID:-//dsnmc.org//NONSGML kigkonsult.se iCalcreator 2.30.10//
CALSCALE:GREGORIAN
METHOD:PUBLISH
UID:3f524a1e-c5a3-422a-9ee9-79817116f682
X-WR-CALDESC:Give a Hoot Comedy Club is hosting the 11th Anniversary MC Liv
 e Comedy Show on three nights in March\, with all three shows benefiting D
 SNMC! Standup Comedian and 106.7 The Fan Talk Radio Host Danny Rouhier wil
 l perform all three nights. The shows start at 8pm\, but come early for di
 nner and drinks! Friday\, March 8 will be a special DSNMC Parents Night Ou
 t. Please note: This event is rated 'PG-13.'
X-WR-RELCALID:ed2f261164822bb5ec89349593f75a97
X-WR-TIMEZONE:America/New_York
BEGIN:VTIMEZONE
TZID:America/New_York
BEGIN:STANDARD
TZNAME:EST
DTSTART:20231105T020000
TZOFFSETFROM:-0400
TZOFFSETTO:-0500
RDATE:20241103T020000
END:STANDARD
BEGIN:DAYLIGHT
TZNAME:EDT
DTSTART:20230312T020000
TZOFFSETFROM:-0500
TZOFFSETTO:-0400
RDATE:20240310T020000
RDATE:20250309T020000
END:DAYLIGHT
END:VTIMEZONE
BEGIN:VEVENT
UID:1406a154-4164-4ace-a0eb-cbe8f6661db6
DTSTAMP:20260420T014938Z
DESCRIPTION:Give a Hoot Comedy Club is hosting the 11th Anniversary MC Live
  Comedy Show on three nights in March\, with all three shows benefiting DS
 NMC! Standup Comedian and 106.7 The Fan Talk Radio Host Danny Rouhier will
  perform all three nights. The shows start at 8pm\, but come early for din
 ner and drinks! Friday\, March 8 will be a special DSNMC Parents Night Out
 . Please note: This event is rated 'PG-13.'
DTSTART;TZID=America/New_York:20240308T200000
DTEND;TZID=America/New_York:20240308T223000
LOCATION:Give a Hoot Comedy Club (La Mexicana Restaurant)\, 16143 Shady Gro
 ve Road\, Gaithersburg\, MD 20877 US
SUMMARY:DSNMC Comedy Night/Parent Night Out
END:VEVENT
END:VCALENDAR
