BEGIN:VCALENDAR
VERSION:2.0
PRODID:-//dsnmc.org//NONSGML kigkonsult.se iCalcreator 2.30.10//
CALSCALE:GREGORIAN
METHOD:PUBLISH
UID:58707508-3b97-4ffb-b0ba-d5440d538aef
X-WR-CALDESC:El Andariego will donate 15% of its dine-in and carry out sale
 s to DSNMC in celebration of World Down Syndrome Day.  Please mention DSNM
 C when you place your order.  Invite your friends and family to participat
 e too!
X-WR-RELCALID:8b829f754d8e132617545313c5f0dccd
X-WR-TIMEZONE:America/New_York
BEGIN:VTIMEZONE
TZID:America/New_York
BEGIN:STANDARD
TZNAME:EST
DTSTART:20231105T020000
TZOFFSETFROM:-0400
TZOFFSETTO:-0500
RDATE:20241103T020000
END:STANDARD
BEGIN:DAYLIGHT
TZNAME:EDT
DTSTART:20240310T020000
TZOFFSETFROM:-0500
TZOFFSETTO:-0400
RDATE:20250309T020000
END:DAYLIGHT
END:VTIMEZONE
BEGIN:VEVENT
UID:0c0d89c4-d547-48db-b69b-c406cb3e61d3
DTSTAMP:20260420T014851Z
DESCRIPTION:El Andariego will donate 15% of its dine-in and carry out sales
  to DSNMC in celebration of World Down Syndrome Day.  Please mention DSNMC
  when you place your order.  Invite your friends and family to participate
  too!
DTSTART;TZID=America/New_York:20240313T110000
DTEND;TZID=America/New_York:20240313T210000
LOCATION:5 Olney Sandy Spring Road\, 5000 Thayer Center Suite C\, Ashton\, 
 MD 20861 US
SUMMARY:El Andariego WDSD Restaurant Fundraiser
END:VEVENT
END:VCALENDAR
