BEGIN:VCALENDAR
VERSION:2.0
PRODID:-//dsnmc.org//NONSGML kigkonsult.se iCalcreator 2.30.10//
CALSCALE:GREGORIAN
METHOD:PUBLISH
UID:702e8db3-e650-43ac-b06d-660faf7b5514
X-WR-CALDESC:
X-WR-RELCALID:4a3da0e0bc41e0c879c037253ea71a37
X-WR-TIMEZONE:America/New_York
BEGIN:VTIMEZONE
TZID:America/New_York
BEGIN:STANDARD
TZNAME:EST
DTSTART:20231105T020000
TZOFFSETFROM:-0400
TZOFFSETTO:-0500
RDATE:20241103T020000
END:STANDARD
BEGIN:DAYLIGHT
TZNAME:EDT
DTSTART:20240310T020000
TZOFFSETFROM:-0500
TZOFFSETTO:-0400
RDATE:20250309T020000
END:DAYLIGHT
END:VTIMEZONE
BEGIN:VEVENT
UID:334a8cdf-f432-4a69-9b7c-435156e67e0e
DTSTAMP:20260420T015107Z
DESCRIPTION:
DTSTART;TZID=America/New_York:20240313T203000
DTEND;TZID=America/New_York:20240313T220000
LOCATION:
SUMMARY:New Family Outreach Committee
END:VEVENT
END:VCALENDAR
