BEGIN:VCALENDAR
VERSION:2.0
PRODID:-//dsnmc.org//NONSGML kigkonsult.se iCalcreator 2.30.10//
CALSCALE:GREGORIAN
METHOD:PUBLISH
UID:9e39896f-e2a6-41f3-95b7-151a9d4e4e61
X-WR-CALDESC:You won't want to miss this opportunity to see award-winning m
 agicians The Great Zucchini and Abracadabra Alex perform magic tricks to d
 elight both children and adults. Spaces are limited for this special event
  - register today! All proceeds from this event will support the Down Synd
 rome Network of Montgomery County (DSNMC). \n\nThis annual event is being 
 held to support and publicize World Down Syndrome Day\, which occurs annua
 lly on 3/21. Every year\, on March 21\, people all around the world come t
 ogether to celebrate World Down Syndrome Day by wearing brightly colored\,
  mismatched socks. March 21 is symbolic because people with Down syndrome 
 have 3 copies of their 21st chromosome. Socks were chosen because the kary
 otype of DS chromosomes actually looks like mismatched socks! Will you sho
 w your support for people with Down syndrome by wearing mismatched socks t
 o the magic show on March 16th?\n\nMismatched socks will be available at t
 he magic show for a $3.00 donation.
X-WR-RELCALID:bb2cc850f390f53b57e5c06ecbf98428
X-WR-TIMEZONE:America/New_York
BEGIN:VTIMEZONE
TZID:America/New_York
BEGIN:STANDARD
TZNAME:EST
DTSTART:20231105T020000
TZOFFSETFROM:-0400
TZOFFSETTO:-0500
RDATE:20241103T020000
END:STANDARD
BEGIN:DAYLIGHT
TZNAME:EDT
DTSTART:20240310T020000
TZOFFSETFROM:-0500
TZOFFSETTO:-0400
RDATE:20250309T020000
END:DAYLIGHT
END:VTIMEZONE
BEGIN:VEVENT
UID:5cff8ee0-6a4a-487b-a11e-419fd26b309b
DTSTAMP:20260420T014721Z
DESCRIPTION:You won't want to miss this opportunity to see award-winning ma
 gicians The Great Zucchini and Abracadabra Alex perform magic tricks to de
 light both children and adults. Spaces are limited for this special event 
 - register today! All proceeds from this event will support the Down Syndr
 ome Network of Montgomery County (DSNMC). \n\nThis annual event is being h
 eld to support and publicize World Down Syndrome Day\, which occurs annual
 ly on 3/21. Every year\, on March 21\, people all around the world come to
 gether to celebrate World Down Syndrome Day by wearing brightly colored\, 
 mismatched socks. March 21 is symbolic because people with Down syndrome h
 ave 3 copies of their 21st chromosome. Socks were chosen because the karyo
 type of DS chromosomes actually looks like mismatched socks! Will you show
  your support for people with Down syndrome by wearing mismatched socks to
  the magic show on March 16th?\n\nMismatched socks will be available at th
 e magic show for a $3.00 donation.
DTSTART;TZID=America/New_York:20240316T103000
DTEND;TZID=America/New_York:20240316T113000
LOCATION:
SUMMARY:Benefit Magic Show
END:VEVENT
END:VCALENDAR
