BEGIN:VCALENDAR
VERSION:2.0
PRODID:-//dsnmc.org//NONSGML kigkonsult.se iCalcreator 2.30.10//
CALSCALE:GREGORIAN
METHOD:PUBLISH
UID:fbfaa1cb-141f-4187-aa08-5180efa2bca1
X-WR-CALDESC:Join your friends in person for a Positively Speaking by Art S
 tream class on March 17th\, from 3:00 - 4:30. While the self-advocates are
  working on communication skills\, there will be a separate room available
  for parents to congregate\, share resources\, and socialize.\n\nMarch's T
 heme is 'Telling Your Story.'\n\nThis unique workshop will focus on our ab
 ility to tell our own stories in our own words. We will use the beginning\
 , middle\, and end approach and practice walking in a room and telling our
  stories. This important skill is useful on Capitol Hill\, at work\, or an
 ywhere!!\n\nThis class is limited to 15 participants.\n\n
X-WR-RELCALID:e42ddac40f4fcb8bda4d7b774b119fab
X-WR-TIMEZONE:America/New_York
BEGIN:VTIMEZONE
TZID:America/New_York
BEGIN:STANDARD
TZNAME:EST
DTSTART:20231105T020000
TZOFFSETFROM:-0400
TZOFFSETTO:-0500
RDATE:20241103T020000
END:STANDARD
BEGIN:DAYLIGHT
TZNAME:EDT
DTSTART:20240310T020000
TZOFFSETFROM:-0500
TZOFFSETTO:-0400
RDATE:20250309T020000
END:DAYLIGHT
END:VTIMEZONE
BEGIN:VEVENT
UID:fdc28cf0-1c49-4a94-9891-3f9ab7c1019e
DTSTAMP:20260420T014755Z
DESCRIPTION:Join your friends in person for a Positively Speaking by Art St
 ream class on March 17th\, from 3:00 - 4:30. While the self-advocates are 
 working on communication skills\, there will be a separate room available 
 for parents to congregate\, share resources\, and socialize.\n\nMarch's Th
 eme is 'Telling Your Story.'\n\nThis unique workshop will focus on our abi
 lity to tell our own stories in our own words. We will use the beginning\,
  middle\, and end approach and practice walking in a room and telling our 
 stories. This important skill is useful on Capitol Hill\, at work\, or any
 where!!\n\nThis class is limited to 15 participants.\n\n
DTSTART;TZID=America/New_York:20240317T150000
DTEND;TZID=America/New_York:20240317T163000
LOCATION:North  Chevy Chase Christian Church\, 8814 Kensington Parkway\, Ch
 evy Chase\, MD 20815 US
SUMMARY:ArtStream Positively Speaking Workshop
END:VEVENT
END:VCALENDAR
