BEGIN:VCALENDAR
VERSION:2.0
PRODID:-//dsnmc.org//NONSGML kigkonsult.se iCalcreator 2.30.10//
CALSCALE:GREGORIAN
METHOD:PUBLISH
UID:76d6a87a-b4fd-4203-b3ab-b7b1be001f17
X-WR-CALDESC:
X-WR-RELCALID:394e4470e8e2517caf361aa795da18a4
X-WR-TIMEZONE:America/New_York
BEGIN:VTIMEZONE
TZID:America/New_York
BEGIN:STANDARD
TZNAME:EST
DTSTART:20231105T020000
TZOFFSETFROM:-0400
TZOFFSETTO:-0500
RDATE:20241103T020000
END:STANDARD
BEGIN:DAYLIGHT
TZNAME:EDT
DTSTART:20240310T020000
TZOFFSETFROM:-0500
TZOFFSETTO:-0400
RDATE:20250309T020000
END:DAYLIGHT
END:VTIMEZONE
BEGIN:VEVENT
UID:44c88938-2629-441f-b86d-21a0e7fe02a4
DTSTAMP:20260420T014812Z
DESCRIPTION:
DTSTART;TZID=America/New_York:20240321T000000
DTEND;TZID=America/New_York:20240321T233000
LOCATION:
SUMMARY:World Down Syndrome Day
END:VEVENT
END:VCALENDAR
