BEGIN:VCALENDAR
VERSION:2.0
PRODID:-//dsnmc.org//NONSGML kigkonsult.se iCalcreator 2.30.10//
CALSCALE:GREGORIAN
METHOD:PUBLISH
UID:5f426369-a32f-4013-97e6-23206328985b
X-WR-CALDESC:
X-WR-RELCALID:617588bb1a3ec3ec4d8786eda7dfb207
X-WR-TIMEZONE:America/New_York
BEGIN:VTIMEZONE
TZID:America/New_York
BEGIN:STANDARD
TZNAME:EST
DTSTART:20231105T020000
TZOFFSETFROM:-0400
TZOFFSETTO:-0500
RDATE:20241103T020000
END:STANDARD
BEGIN:DAYLIGHT
TZNAME:EDT
DTSTART:20240310T020000
TZOFFSETFROM:-0500
TZOFFSETTO:-0400
RDATE:20250309T020000
END:DAYLIGHT
END:VTIMEZONE
BEGIN:VEVENT
UID:00a1f12f-b48d-4a89-819d-ea588b7d361e
DTSTAMP:20260420T014720Z
DESCRIPTION:
DTSTART;TZID=America/New_York:20240325T000000
DTEND;TZID=America/New_York:20240325T233000
LOCATION:
SUMMARY:Holi
END:VEVENT
END:VCALENDAR
