BEGIN:VCALENDAR
VERSION:2.0
PRODID:-//dsnmc.org//NONSGML kigkonsult.se iCalcreator 2.30.10//
CALSCALE:GREGORIAN
METHOD:PUBLISH
UID:5eeefa56-9c15-43e9-9ecb-d4ee546b51a5
X-WR-CALDESC:This program is designed for people with Down syndrome and oth
 er Intellectual and Developmental Disabilities ages 16+. In this session\,
  led by well-known Sex Educator and Author Terri Couwenhoven\, you will le
 arn what a boundary is\, why boundaries are important\, and how to make de
 cisions about boundaries with people in your life. Using fun activities\, 
 participants will learn how boundaries can change based on who you are wit
 h and where you are. Boundary rules for private body parts will also be sh
 ared.
X-WR-RELCALID:ab8383f970be2244e492beeca9a603cf
X-WR-TIMEZONE:America/New_York
BEGIN:VTIMEZONE
TZID:America/New_York
BEGIN:STANDARD
TZNAME:EST
DTSTART:20231105T020000
TZOFFSETFROM:-0400
TZOFFSETTO:-0500
RDATE:20241103T020000
END:STANDARD
BEGIN:DAYLIGHT
TZNAME:EDT
DTSTART:20240310T020000
TZOFFSETFROM:-0500
TZOFFSETTO:-0400
RDATE:20250309T020000
END:DAYLIGHT
END:VTIMEZONE
BEGIN:VEVENT
UID:a6dea8ca-f955-4a58-acae-367c913a28c1
DTSTAMP:20260420T005629Z
DESCRIPTION:This program is designed for people with Down syndrome and othe
 r Intellectual and Developmental Disabilities ages 16+. In this session\, 
 led by well-known Sex Educator and Author Terri Couwenhoven\, you will lea
 rn what a boundary is\, why boundaries are important\, and how to make dec
 isions about boundaries with people in your life. Using fun activities\, p
 articipants will learn how boundaries can change based on who you are with
  and where you are. Boundary rules for private body parts will also be sha
 red.
DTSTART;TZID=America/New_York:20240405T183000
DTEND;TZID=America/New_York:20240405T203000
LOCATION:The Arc Montgomery County\, 7362 Calhoun Place\, Rockville\, MD 20
 855 US
SUMMARY:Relationships and Boundaries - How do you decide?
END:VEVENT
END:VCALENDAR
