BEGIN:VCALENDAR
VERSION:2.0
PRODID:-//dsnmc.org//NONSGML kigkonsult.se iCalcreator 2.30.10//
CALSCALE:GREGORIAN
METHOD:PUBLISH
UID:28e9a4a8-b736-4824-9795-921c6138a913
X-WR-CALDESC:This program is designed for people with Down syndrome and oth
 er Intellectual and Developmental disabilities ages 16+.\nThis interactive
  workshop\, led by well-known Sex Educator and Author Terri Couwenhoven\, 
 is designed for teens and young adults who are interested in dating but ha
 ve little experience. Basic (and necessary) steps for starting a dating re
 lationship are shared. You will learn ways to decide if a relationship you
  are in is healthy or unhealthy. Using checklists and real life examples o
 f relationships\, we will discuss when to continue or stop relationships.
X-WR-RELCALID:5d239344c6869221566239558a165c33
X-WR-TIMEZONE:America/New_York
BEGIN:VTIMEZONE
TZID:America/New_York
BEGIN:STANDARD
TZNAME:EST
DTSTART:20231105T020000
TZOFFSETFROM:-0400
TZOFFSETTO:-0500
RDATE:20241103T020000
END:STANDARD
BEGIN:DAYLIGHT
TZNAME:EDT
DTSTART:20240310T020000
TZOFFSETFROM:-0500
TZOFFSETTO:-0400
RDATE:20250309T020000
END:DAYLIGHT
END:VTIMEZONE
BEGIN:VEVENT
UID:f1afaaf0-060f-4eb6-a05a-64b1104f3f7e
DTSTAMP:20260420T004055Z
DESCRIPTION:This program is designed for people with Down syndrome and othe
 r Intellectual and Developmental disabilities ages 16+.\nThis interactive 
 workshop\, led by well-known Sex Educator and Author Terri Couwenhoven\, i
 s designed for teens and young adults who are interested in dating but hav
 e little experience. Basic (and necessary) steps for starting a dating rel
 ationship are shared. You will learn ways to decide if a relationship you 
 are in is healthy or unhealthy. Using checklists and real life examples of
  relationships\, we will discuss when to continue or stop relationships.
DTSTART;TZID=America/New_York:20240406T183000
DTEND;TZID=America/New_York:20240406T203000
LOCATION:The Arc Montgomery County\, 7362 Calhoun Place\, Rockville\, MD 20
 855 US
SUMMARY:Dating Basics
END:VEVENT
END:VCALENDAR
