BEGIN:VCALENDAR
VERSION:2.0
PRODID:-//dsnmc.org//NONSGML kigkonsult.se iCalcreator 2.30.10//
CALSCALE:GREGORIAN
METHOD:PUBLISH
UID:871b23e8-0a75-441c-a8e8-4d2aa65ac4d4
X-WR-CALDESC:If you have a child with Down syndrome aged 4-6\, meet us at H
 illendale Local Park on April 6th\, between 3 and 5. DSNMC Board Member an
 d mother\, Shannon Thomas\, will be there to greet you. The kids can play\
 , and the parents can chat about raising a child with Down syndrome. Sibli
 ngs are welcome to come too.
X-WR-RELCALID:2dbc10044968c9d3f41cc0329b787a85
X-WR-TIMEZONE:America/New_York
BEGIN:VTIMEZONE
TZID:America/New_York
BEGIN:STANDARD
TZNAME:EST
DTSTART:20231105T020000
TZOFFSETFROM:-0400
TZOFFSETTO:-0500
RDATE:20241103T020000
END:STANDARD
BEGIN:DAYLIGHT
TZNAME:EDT
DTSTART:20240310T020000
TZOFFSETFROM:-0500
TZOFFSETTO:-0400
RDATE:20250309T020000
END:DAYLIGHT
END:VTIMEZONE
BEGIN:VEVENT
UID:442073ea-2b06-4c71-a7ee-6d19140f9b79
DTSTAMP:20260420T004838Z
DESCRIPTION:If you have a child with Down syndrome aged 4-6\, meet us at Hi
 llendale Local Park on April 6th\, between 3 and 5. DSNMC Board Member and
  mother\, Shannon Thomas\, will be there to greet you. The kids can play\,
  and the parents can chat about raising a child with Down syndrome. Siblin
 gs are welcome to come too.
DTSTART;TZID=America/New_York:20240406T150000
DTEND;TZID=America/New_York:20240406T170000
LOCATION:Hillandale Local Park\, 10615 New Hampshire Avenue\, Silver Spring
 \, MD 20903 US
SUMMARY:DSNMC April Playgroup for children 4-6
END:VEVENT
END:VCALENDAR
