BEGIN:VCALENDAR
VERSION:2.0
PRODID:-//dsnmc.org//NONSGML kigkonsult.se iCalcreator 2.30.10//
CALSCALE:GREGORIAN
METHOD:PUBLISH
UID:ab37b8b2-6507-454e-839f-1a18070a83aa
X-WR-CALDESC:This event is designed for families who have a child with Down
  syndrome aged 3 or younger.\n\nWhen: Saturday\, April 6\nTime: 10 am - 12
  noon (feel free to arrive late and/or leave early)\nWhere: Kristi Maeng's
  home in Silver Spring. (Address will be provided to registrants)\nDSNMC w
 ill be offering playgroups on a regular basis\, so if you are unable to at
 tend this playgroup\, there will be others scheduled. If you\, or your lit
 tle one\, are showing any signs of illness (fever\, coughing\, excessive r
 unny nose\, etc.) please stay home and we will see you the next time.\n\n
 \nThis playdate is being offered in a more intimate setting to allow you t
 he opportunity to focus on your little one and chat with others and is lim
 ited to ten families. If the event is sold out\, please email Joy who will
  add your name to a waiting list. While this event is designed for familie
 s that have a child with Down syndrome 3 and younger\, we understand if ol
 der siblings (who aren't showing any signs of illness) need to attend.\n\n
 \n¡Se ha fijado una fecha para nuestra primera cita de juego 'estilo hogar
 eño'! Este evento está diseñado para familias que tienen un niño con síndr
 ome de Down de 3 años o menos.\n\nCuándo: Sábado 6 de abril\nHora: 10 am -
  12 mediodía (no dudes en llegar tarde y/o salir temprano)\nDónde: La casa
  de Kristi Maeng en Silver Spring. (La dirección se proporcionará a los in
 scritos)\nDSNMC ofrecerá grupos de juego de forma regular\, por lo que si 
 no puede asistir a este grupo de juego\, habrá otros programados. Si usted
  o su pequeño muestran algún signo de enfermedad (fiebre\, tos\, secreción
  nasal excesiva\, etc.)\, quédese en casa y nos vemos la próxima vez.\n\nD
 SNMC proporcionará refrigerios y bebidas (principalmente para los adultos)
 . No dudes en traer bocadillos o una bebida para tu pequeño.\nLa familia M
 aeng tiene un perro Bichon Frise (hipoalergénico) que los visita con frecu
 encia pero que no estará presente durante la cita de juego.\nEsta cita de 
 juego se ofrece en un ambiente más íntimo para brindarle la oportunidad de
  concentrarse en su pequeño y conversar con otros y está limitada a diez f
 amilias. Si el evento está agotado\, envíe un correo electrónico a Joy\, q
 uien agregará su nombre a una lista de espera. Si bien este evento está di
 señado para familias que tienen un niño con síndrome de Down de 3 años o m
 enos\, entendemos si es necesario que asistan hermanos mayores (que no mue
 stren ningún signo de enfermedad).\n\n
X-WR-RELCALID:81738c42d9b6d030fc746249fcc33816
X-WR-TIMEZONE:America/New_York
BEGIN:VTIMEZONE
TZID:America/New_York
BEGIN:STANDARD
TZNAME:EST
DTSTART:20231105T020000
TZOFFSETFROM:-0400
TZOFFSETTO:-0500
RDATE:20241103T020000
END:STANDARD
BEGIN:DAYLIGHT
TZNAME:EDT
DTSTART:20240310T020000
TZOFFSETFROM:-0500
TZOFFSETTO:-0400
RDATE:20250309T020000
END:DAYLIGHT
END:VTIMEZONE
BEGIN:VEVENT
UID:15fdf291-9598-4f29-9fa8-cb214e30a0ad
DTSTAMP:20260420T005345Z
DESCRIPTION:This event is designed for families who have a child with Down 
 syndrome aged 3 or younger.\n\nWhen: Saturday\, April 6\nTime: 10 am - 12 
 noon (feel free to arrive late and/or leave early)\nWhere: Kristi Maeng's 
 home in Silver Spring. (Address will be provided to registrants)\nDSNMC wi
 ll be offering playgroups on a regular basis\, so if you are unable to att
 end this playgroup\, there will be others scheduled. If you\, or your litt
 le one\, are showing any signs of illness (fever\, coughing\, excessive ru
 nny nose\, etc.) please stay home and we will see you the next time.\n\n\n
 This playdate is being offered in a more intimate setting to allow you the
  opportunity to focus on your little one and chat with others and is limit
 ed to ten families. If the event is sold out\, please email Joy who will a
 dd your name to a waiting list. While this event is designed for families 
 that have a child with Down syndrome 3 and younger\, we understand if olde
 r siblings (who aren't showing any signs of illness) need to attend.\n\n\n
 ¡Se ha fijado una fecha para nuestra primera cita de juego 'estilo hogareñ
 o'! Este evento está diseñado para familias que tienen un niño con síndrom
 e de Down de 3 años o menos.\n\nCuándo: Sábado 6 de abril\nHora: 10 am - 1
 2 mediodía (no dudes en llegar tarde y/o salir temprano)\nDónde: La casa d
 e Kristi Maeng en Silver Spring. (La dirección se proporcionará a los insc
 ritos)\nDSNMC ofrecerá grupos de juego de forma regular\, por lo que si no
  puede asistir a este grupo de juego\, habrá otros programados. Si usted o
  su pequeño muestran algún signo de enfermedad (fiebre\, tos\, secreción n
 asal excesiva\, etc.)\, quédese en casa y nos vemos la próxima vez.\n\nDSN
 MC proporcionará refrigerios y bebidas (principalmente para los adultos). 
 No dudes en traer bocadillos o una bebida para tu pequeño.\nLa familia Mae
 ng tiene un perro Bichon Frise (hipoalergénico) que los visita con frecuen
 cia pero que no estará presente durante la cita de juego.\nEsta cita de ju
 ego se ofrece en un ambiente más íntimo para brindarle la oportunidad de c
 oncentrarse en su pequeño y conversar con otros y está limitada a diez fam
 ilias. Si el evento está agotado\, envíe un correo electrónico a Joy\, qui
 en agregará su nombre a una lista de espera. Si bien este evento está dise
 ñado para familias que tienen un niño con síndrome de Down de 3 años o men
 os\, entendemos si es necesario que asistan hermanos mayores (que no muest
 ren ningún signo de enfermedad).\n\n
DTSTART;TZID=America/New_York:20240406T100000
DTEND;TZID=America/New_York:20240406T120000
LOCATION:
SUMMARY:Playgroup for Infants and Toddlers
END:VEVENT
END:VCALENDAR
