BEGIN:VCALENDAR
VERSION:2.0
PRODID:-//dsnmc.org//NONSGML kigkonsult.se iCalcreator 2.30.10//
CALSCALE:GREGORIAN
METHOD:PUBLISH
UID:7e1140b9-ef81-490c-a9b4-fdf14b88a3ef
X-WR-CALDESC:This program is designed for a female pre-teen/teen who has ex
 perienced at least one change related to puberty along with a parent/guard
 ian.\n\nIn this session\, led by well-known Sex Educator and Author Terri 
 Couwenhoven\, participants will learn about the physical and emotional cha
 nges that happen during puberty and the responsibilities associated with c
 aring for the body (hygiene and use of feminine hygiene products).
X-WR-RELCALID:6456c3272ce1ccf481ac6b009a181191
X-WR-TIMEZONE:America/New_York
BEGIN:VTIMEZONE
TZID:America/New_York
BEGIN:STANDARD
TZNAME:EST
DTSTART:20231105T020000
TZOFFSETFROM:-0400
TZOFFSETTO:-0500
RDATE:20241103T020000
END:STANDARD
BEGIN:DAYLIGHT
TZNAME:EDT
DTSTART:20240310T020000
TZOFFSETFROM:-0500
TZOFFSETTO:-0400
RDATE:20250309T020000
END:DAYLIGHT
END:VTIMEZONE
BEGIN:VEVENT
UID:ed640873-1213-42a6-8746-8e58c4e7ac65
DTSTAMP:20260420T005000Z
DESCRIPTION:This program is designed for a female pre-teen/teen who has exp
 erienced at least one change related to puberty along with a parent/guardi
 an.\n\nIn this session\, led by well-known Sex Educator and Author Terri C
 ouwenhoven\, participants will learn about the physical and emotional chan
 ges that happen during puberty and the responsibilities associated with ca
 ring for the body (hygiene and use of feminine hygiene products).
DTSTART;TZID=America/New_York:20240406T120000
DTEND;TZID=America/New_York:20240406T140000
LOCATION:The Arc Montgomery County\, 7362 Calhoun Place\, Rockville\, MD 20
 855 US
SUMMARY:Puberty Workshop for Females
END:VEVENT
END:VCALENDAR
