BEGIN:VCALENDAR
VERSION:2.0
PRODID:-//dsnmc.org//NONSGML kigkonsult.se iCalcreator 2.30.10//
CALSCALE:GREGORIAN
METHOD:PUBLISH
UID:99f6af6b-e6ce-4e05-8cbf-ce10652705cc
X-WR-CALDESC:This program is designed for a male pre-teen/teen who has expe
 rienced at least one change related to puberty along with a parent/guardia
 n.\n\nIn this session\, led by well-known Sex Educator and Author Terri Co
 uwenhoven\, Participants will learn about the physical and emotional chang
 es that happen to males during puberty and the responsibilities associated
  with caring for the body (hygiene).
X-WR-RELCALID:e75948afdb27312ce8264485a6cc50c0
X-WR-TIMEZONE:America/New_York
BEGIN:VTIMEZONE
TZID:America/New_York
BEGIN:STANDARD
TZNAME:EST
DTSTART:20231105T020000
TZOFFSETFROM:-0400
TZOFFSETTO:-0500
RDATE:20241103T020000
END:STANDARD
BEGIN:DAYLIGHT
TZNAME:EDT
DTSTART:20240310T020000
TZOFFSETFROM:-0500
TZOFFSETTO:-0400
RDATE:20250309T020000
END:DAYLIGHT
END:VTIMEZONE
BEGIN:VEVENT
UID:8c2c38ba-bbca-468f-87c5-88f15e27dffc
DTSTAMP:20260420T004324Z
DESCRIPTION:This program is designed for a male pre-teen/teen who has exper
 ienced at least one change related to puberty along with a parent/guardian
 .\n\nIn this session\, led by well-known Sex Educator and Author Terri Cou
 wenhoven\, Participants will learn about the physical and emotional change
 s that happen to males during puberty and the responsibilities associated 
 with caring for the body (hygiene).
DTSTART;TZID=America/New_York:20240406T100000
DTEND;TZID=America/New_York:20240406T120000
LOCATION:The Arc Montgomery County\, 7362 Calhoun Place\, Rockville\, MD 20
 855 US
SUMMARY:Puberty Workshop for Males
END:VEVENT
END:VCALENDAR
