BEGIN:VCALENDAR
VERSION:2.0
PRODID:-//dsnmc.org//NONSGML kigkonsult.se iCalcreator 2.30.10//
CALSCALE:GREGORIAN
METHOD:PUBLISH
UID:0c595d23-29cb-4b5e-b790-1c5dcf883b74
X-WR-CALDESC:
X-WR-RELCALID:7e696f9e7027a8f31afe3fc160cbb3a0
X-WR-TIMEZONE:America/New_York
BEGIN:VTIMEZONE
TZID:America/New_York
BEGIN:STANDARD
TZNAME:EST
DTSTART:20231105T020000
TZOFFSETFROM:-0400
TZOFFSETTO:-0500
RDATE:20241103T020000
END:STANDARD
BEGIN:DAYLIGHT
TZNAME:EDT
DTSTART:20240310T020000
TZOFFSETFROM:-0500
TZOFFSETTO:-0400
RDATE:20250309T020000
END:DAYLIGHT
END:VTIMEZONE
BEGIN:VEVENT
UID:dea093a0-114e-4b6d-9e59-8a883b889a17
DTSTAMP:20260420T004452Z
DESCRIPTION:
DTSTART;TZID=America/New_York:20240410T000000
DTEND;TZID=America/New_York:20240410T235900
LOCATION:
SUMMARY:Eid al-Fitr
END:VEVENT
END:VCALENDAR
