BEGIN:VCALENDAR
VERSION:2.0
PRODID:-//dsnmc.org//NONSGML kigkonsult.se iCalcreator 2.30.10//
CALSCALE:GREGORIAN
METHOD:PUBLISH
UID:48d4dac7-c7fe-46ef-99e5-7b5ff8573242
X-WR-CALDESC:Is your child getting ready to transition to Kindergarten?  In
  this workshop\, you will learn about the transition process\, kindergarte
 n instruction and schedules\, the different educational services provided 
 in MCPS\, school assignments\, transportation\, and more!  This program is
  designed for all parents with children transitioning to kindergarten and 
 parents with children 0-3 who want to learn more about the early transitio
 n process.
X-WR-RELCALID:147dc994bc2d18e79f28d1897f487607
X-WR-TIMEZONE:America/New_York
BEGIN:VTIMEZONE
TZID:America/New_York
BEGIN:STANDARD
TZNAME:EST
DTSTART:20231105T020000
TZOFFSETFROM:-0400
TZOFFSETTO:-0500
RDATE:20241103T020000
END:STANDARD
BEGIN:DAYLIGHT
TZNAME:EDT
DTSTART:20240310T020000
TZOFFSETFROM:-0500
TZOFFSETTO:-0400
RDATE:20250309T020000
END:DAYLIGHT
END:VTIMEZONE
BEGIN:VEVENT
UID:5d292117-04aa-4c21-a962-7f8ebf6151a2
DTSTAMP:20260420T004049Z
DESCRIPTION:Is your child getting ready to transition to Kindergarten?  In 
 this workshop\, you will learn about the transition process\, kindergarten
  instruction and schedules\, the different educational services provided i
 n MCPS\, school assignments\, transportation\, and more!  This program is 
 designed for all parents with children transitioning to kindergarten and p
 arents with children 0-3 who want to learn more about the early transition
  process.
DTSTART;TZID=America/New_York:20240411T190000
DTEND;TZID=America/New_York:20240411T203000
LOCATION:
SUMMARY:MCPS: Pre-K to Kindergarten Transition
END:VEVENT
END:VCALENDAR
