BEGIN:VCALENDAR
VERSION:2.0
PRODID:-//dsnmc.org//NONSGML kigkonsult.se iCalcreator 2.30.10//
CALSCALE:GREGORIAN
METHOD:PUBLISH
UID:4a7a6dc2-7473-48f5-8b54-f9a03e2eba0a
X-WR-CALDESC:
X-WR-RELCALID:a08910e3b29cb72ddc62cc59cb1fcab5
X-WR-TIMEZONE:America/New_York
BEGIN:VTIMEZONE
TZID:America/New_York
BEGIN:STANDARD
TZNAME:EST
DTSTART:20231105T020000
TZOFFSETFROM:-0400
TZOFFSETTO:-0500
RDATE:20241103T020000
END:STANDARD
BEGIN:DAYLIGHT
TZNAME:EDT
DTSTART:20240310T020000
TZOFFSETFROM:-0500
TZOFFSETTO:-0400
RDATE:20250309T020000
END:DAYLIGHT
END:VTIMEZONE
BEGIN:VEVENT
UID:79f6d8e9-fa4a-43e2-b604-43b9a0b57e78
DTSTAMP:20260420T004054Z
DESCRIPTION:
DTSTART;TZID=America/New_York:20240415T193000
DTEND;TZID=America/New_York:20240415T210000
LOCATION:
SUMMARY:Board Meeting
END:VEVENT
END:VCALENDAR
