BEGIN:VCALENDAR
VERSION:2.0
PRODID:-//dsnmc.org//NONSGML kigkonsult.se iCalcreator 2.30.10//
CALSCALE:GREGORIAN
METHOD:PUBLISH
UID:839f3e22-e2b3-447a-a7da-4a45eb44a2cc
X-WR-CALDESC:This workshop is a 'must' for anyone who has a child in high s
 chool\; parents of middle schoolers are welcome to attend. MCPS staff will
  provide information regarding transition services\, Community and Career 
 Connections (CCC)\, Transition Training for Independence (TTI)\, MCPS care
 er readiness opportunities\, post secondary options\, DDA and DORS. This w
 orkshop will be presented by Patricia Cochrane\, Supervisor\, MCPS Transit
 ion Services and Melissa Teage\, Special Education Teacher and Transition 
 Specialist.
X-WR-RELCALID:47411cf915d14c371fbc0352b623a6e0
X-WR-TIMEZONE:America/New_York
BEGIN:VTIMEZONE
TZID:America/New_York
BEGIN:STANDARD
TZNAME:EST
DTSTART:20231105T020000
TZOFFSETFROM:-0400
TZOFFSETTO:-0500
RDATE:20241103T020000
END:STANDARD
BEGIN:DAYLIGHT
TZNAME:EDT
DTSTART:20240310T020000
TZOFFSETFROM:-0500
TZOFFSETTO:-0400
RDATE:20250309T020000
END:DAYLIGHT
END:VTIMEZONE
BEGIN:VEVENT
UID:f011deed-831a-4adc-9f5b-a31aa1453a66
DTSTAMP:20260420T004605Z
DESCRIPTION:This workshop is a 'must' for anyone who has a child in high sc
 hool\; parents of middle schoolers are welcome to attend. MCPS staff will 
 provide information regarding transition services\, Community and Career C
 onnections (CCC)\, Transition Training for Independence (TTI)\, MCPS caree
 r readiness opportunities\, post secondary options\, DDA and DORS. This wo
 rkshop will be presented by Patricia Cochrane\, Supervisor\, MCPS Transiti
 on Services and Melissa Teage\, Special Education Teacher and Transition S
 pecialist.
DTSTART;TZID=America/New_York:20240417T060000
DTEND;TZID=America/New_York:20240417T060001
LOCATION:
SUMMARY:Transition Planning Over the High School Career
END:VEVENT
END:VCALENDAR
