BEGIN:VCALENDAR
VERSION:2.0
PRODID:-//dsnmc.org//NONSGML kigkonsult.se iCalcreator 2.30.10//
CALSCALE:GREGORIAN
METHOD:PUBLISH
UID:2780c654-14ec-44c9-a682-8ab5ebb13dec
X-WR-CALDESC:Teens of all ages are invited to Game Night\, hosted by Adrian
  and Katie. Hang out with your friends at Main Street\, eat pizza\, and pl
 ay board games\, as well as Uno\, Charades\, Jeopardy\, and Freeze Dance w
 ith Taylor Swift music.\n\nWe welcome parents or other support personnel t
 o stay with teens/adults who need supervision. DSNMC staff and volunteers 
 will not be available to supervise individual participants.
X-WR-RELCALID:1b6a655a479fb6038a30af1eece371ba
X-WR-TIMEZONE:America/New_York
BEGIN:VTIMEZONE
TZID:America/New_York
BEGIN:STANDARD
TZNAME:EST
DTSTART:20231105T020000
TZOFFSETFROM:-0400
TZOFFSETTO:-0500
RDATE:20241103T020000
END:STANDARD
BEGIN:DAYLIGHT
TZNAME:EDT
DTSTART:20240310T020000
TZOFFSETFROM:-0500
TZOFFSETTO:-0400
RDATE:20250309T020000
END:DAYLIGHT
END:VTIMEZONE
BEGIN:VEVENT
UID:436f6916-7006-4cb9-93d9-5150dfd498c5
DTSTAMP:20260420T004838Z
DESCRIPTION:Teens of all ages are invited to Game Night\, hosted by Adrian 
 and Katie. Hang out with your friends at Main Street\, eat pizza\, and pla
 y board games\, as well as Uno\, Charades\, Jeopardy\, and Freeze Dance wi
 th Taylor Swift music.\n\nWe welcome parents or other support personnel to
  stay with teens/adults who need supervision. DSNMC staff and volunteers w
 ill not be available to supervise individual participants.
DTSTART;TZID=America/New_York:20240420T173000
DTEND;TZID=America/New_York:20240420T193000
LOCATION:Main Street (Poppy's Kitchen)\, 50 Monroe Place\, Rockville\, MD 2
 0850 US
SUMMARY:Teen Game Night
END:VEVENT
END:VCALENDAR
