BEGIN:VCALENDAR
VERSION:2.0
PRODID:-//dsnmc.org//NONSGML kigkonsult.se iCalcreator 2.30.10//
CALSCALE:GREGORIAN
METHOD:PUBLISH
UID:e857d338-4a2b-4c15-a51e-ad7b62690a7f
X-WR-CALDESC:
X-WR-RELCALID:16bc338f67d02f56ef3133a61249f87a
X-WR-TIMEZONE:America/New_York
BEGIN:VTIMEZONE
TZID:America/New_York
BEGIN:STANDARD
TZNAME:EST
DTSTART:20231105T020000
TZOFFSETFROM:-0400
TZOFFSETTO:-0500
RDATE:20241103T020000
END:STANDARD
BEGIN:DAYLIGHT
TZNAME:EDT
DTSTART:20240310T020000
TZOFFSETFROM:-0500
TZOFFSETTO:-0400
RDATE:20250309T020000
END:DAYLIGHT
END:VTIMEZONE
BEGIN:VEVENT
UID:120bffd4-dbf8-4dd3-bb8b-7d193b9f246a
DTSTAMP:20260420T004549Z
DESCRIPTION:
DTSTART;TZID=America/New_York:20240422T183000
DTEND;TZID=America/New_York:20240422T233000
LOCATION:
SUMMARY:First night of Passover
END:VEVENT
END:VCALENDAR
