BEGIN:VCALENDAR
VERSION:2.0
PRODID:-//dsnmc.org//NONSGML kigkonsult.se iCalcreator 2.30.10//
CALSCALE:GREGORIAN
METHOD:PUBLISH
UID:8ccd8766-8586-4d42-8fb1-08f19e7869ef
X-WR-CALDESC:DSNMC needs lots of volunteers to ensure that our Step Up Walk
  is a success.  We would love for YOU to join our committee this year.  Pl
 ease email Joy Stein at admin@dsnmc for the zoom link to this meeting.  We
  hope you will join us.
X-WR-RELCALID:f38850929e483c9d9e19a68d24ea624e
X-WR-TIMEZONE:America/New_York
BEGIN:VTIMEZONE
TZID:America/New_York
BEGIN:STANDARD
TZNAME:EST
DTSTART:20231105T020000
TZOFFSETFROM:-0400
TZOFFSETTO:-0500
RDATE:20241103T020000
END:STANDARD
BEGIN:DAYLIGHT
TZNAME:EDT
DTSTART:20240310T020000
TZOFFSETFROM:-0500
TZOFFSETTO:-0400
RDATE:20250309T020000
END:DAYLIGHT
END:VTIMEZONE
BEGIN:VEVENT
UID:d1f955ac-ef48-47eb-b1ab-6ac105f140d6
DTSTAMP:20260420T005218Z
DESCRIPTION:DSNMC needs lots of volunteers to ensure that our Step Up Walk 
 is a success.  We would love for YOU to join our committee this year.  Ple
 ase email Joy Stein at admin@dsnmc for the zoom link to this meeting.  We 
 hope you will join us.
DTSTART;TZID=America/New_York:20240424T193000
DTEND;TZID=America/New_York:20240424T210000
LOCATION:
SUMMARY:DSNMC 2024 Step Up Walk Kickoff Meeting
END:VEVENT
END:VCALENDAR
