BEGIN:VCALENDAR
VERSION:2.0
PRODID:-//dsnmc.org//NONSGML kigkonsult.se iCalcreator 2.30.10//
CALSCALE:GREGORIAN
METHOD:PUBLISH
UID:7060c0bb-2050-4591-8e0b-7b556ff0ab2a
X-WR-CALDESC:Have you graduated high school and like listening to live musi
 c with friends on a Saturday night? If so\, please come to Brew and Barrel
 s with the Self-Advocate Community Network on April 27th from 7-10 PM! A l
 ive band called Trainwreck is playing\, and food and drinks will be availa
 ble for purchase. \n\nWe welcome parents or other support personnel to sta
 y with Self-advocates who need supervision. DSNMC staff and volunteers wil
 l not be available to supervise individual participants.
X-WR-RELCALID:da2a4f8d23058ff47f8e1615e0857bb9
X-WR-TIMEZONE:America/New_York
BEGIN:VTIMEZONE
TZID:America/New_York
BEGIN:STANDARD
TZNAME:EST
DTSTART:20231105T020000
TZOFFSETFROM:-0400
TZOFFSETTO:-0500
RDATE:20241103T020000
END:STANDARD
BEGIN:DAYLIGHT
TZNAME:EDT
DTSTART:20240310T020000
TZOFFSETFROM:-0500
TZOFFSETTO:-0400
RDATE:20250309T020000
END:DAYLIGHT
END:VTIMEZONE
BEGIN:VEVENT
UID:bea3172e-1053-485a-ad25-468386a332c4
DTSTAMP:20260420T004955Z
DESCRIPTION:Have you graduated high school and like listening to live music
  with friends on a Saturday night? If so\, please come to Brew and Barrels
  with the Self-Advocate Community Network on April 27th from 7-10 PM! A li
 ve band called Trainwreck is playing\, and food and drinks will be availab
 le for purchase. \n\nWe welcome parents or other support personnel to stay
  with Self-advocates who need supervision. DSNMC staff and volunteers will
  not be available to supervise individual participants.
DTSTART;TZID=America/New_York:20240427T190000
DTEND;TZID=America/New_York:20240427T220000
LOCATION:Brew and Barrels\, 625 Center Point Way\, Gaithersburg\, MD 20878 
 US
SUMMARY:Music and Munchies @ Brews and Barrels
END:VEVENT
END:VCALENDAR
