BEGIN:VCALENDAR
VERSION:2.0
PRODID:-//dsnmc.org//NONSGML kigkonsult.se iCalcreator 2.30.10//
CALSCALE:GREGORIAN
METHOD:PUBLISH
UID:b635c4ec-13fa-41a6-9bc1-6daa7cbb0686
X-WR-CALDESC:Join your friends in person for a Positively Speaking by Art S
 tream class on March 17th\, from 3:00 - 4:30. While the self-advocates are
  working on communication skills\, there will be a separate room available
  for parents to congregate\, share resources\, and socialize.\n\nThis mont
 h we will have an Improv Fest. The DSNMC teen hangout group will be joinin
 g us for this creative collaboration.  We will share our favorite improv g
 ames and 'play' using the first rule of improv: Yes\, and!!\n\nThis class 
 is limited to 15 participants.\n\n
X-WR-RELCALID:153f815a76a90d5beb486247663788f9
X-WR-TIMEZONE:America/New_York
BEGIN:VTIMEZONE
TZID:America/New_York
BEGIN:STANDARD
TZNAME:EST
DTSTART:20231105T020000
TZOFFSETFROM:-0400
TZOFFSETTO:-0500
RDATE:20241103T020000
END:STANDARD
BEGIN:DAYLIGHT
TZNAME:EDT
DTSTART:20240310T020000
TZOFFSETFROM:-0500
TZOFFSETTO:-0400
RDATE:20250309T020000
END:DAYLIGHT
END:VTIMEZONE
BEGIN:VEVENT
UID:96b683d5-ead8-471f-99da-c7315f7c426f
DTSTAMP:20260420T003933Z
DESCRIPTION:Join your friends in person for a Positively Speaking by Art St
 ream class on March 17th\, from 3:00 - 4:30. While the self-advocates are 
 working on communication skills\, there will be a separate room available 
 for parents to congregate\, share resources\, and socialize.\n\nThis month
  we will have an Improv Fest. The DSNMC teen hangout group will be joining
  us for this creative collaboration.  We will share our favorite improv ga
 mes and 'play' using the first rule of improv: Yes\, and!!\n\nThis class i
 s limited to 15 participants.\n\n
DTSTART;TZID=America/New_York:20240428T150000
DTEND;TZID=America/New_York:20240428T163000
LOCATION:North  Chevy Chase Christian Church\, 8814 Kensington Parkway\, Ch
 evy Chase\, MD 20815 US
SUMMARY:ArtStream Positively Speaking Workshop
END:VEVENT
END:VCALENDAR
