BEGIN:VCALENDAR
VERSION:2.0
PRODID:-//dsnmc.org//NONSGML kigkonsult.se iCalcreator 2.30.10//
CALSCALE:GREGORIAN
METHOD:PUBLISH
UID:4df649ab-7461-4ada-9f26-3d5cbf3d423b
X-WR-CALDESC:All DSNMC members are invited to join the summer picnic planni
 ng committee.  If you have ideas about the picnic\, we'd love to hear from
  you.  We hope to see you at the meeting.  Please email Joy at admin@dsnmc
 .org for the zoom link.
X-WR-RELCALID:0a96ca800a5aa869f361871752890a4f
X-WR-TIMEZONE:America/New_York
BEGIN:VTIMEZONE
TZID:America/New_York
BEGIN:STANDARD
TZNAME:EST
DTSTART:20231105T020000
TZOFFSETFROM:-0400
TZOFFSETTO:-0500
RDATE:20241103T020000
END:STANDARD
BEGIN:DAYLIGHT
TZNAME:EDT
DTSTART:20240310T020000
TZOFFSETFROM:-0500
TZOFFSETTO:-0400
RDATE:20250309T020000
END:DAYLIGHT
END:VTIMEZONE
BEGIN:VEVENT
UID:f1c3b108-2095-4589-b910-a55a69c23d0b
DTSTAMP:20260420T004955Z
DESCRIPTION:All DSNMC members are invited to join the summer picnic plannin
 g committee.  If you have ideas about the picnic\, we'd love to hear from 
 you.  We hope to see you at the meeting.  Please email Joy at admin@dsnmc.
 org for the zoom link.
DTSTART;TZID=America/New_York:20240430T193000
DTEND;TZID=America/New_York:20240430T210000
LOCATION:
SUMMARY:Summer Picnic Planning Committee Meeting
END:VEVENT
END:VCALENDAR
