BEGIN:VCALENDAR
VERSION:2.0
PRODID:-//dsnmc.org//NONSGML kigkonsult.se iCalcreator 2.30.10//
CALSCALE:GREGORIAN
METHOD:PUBLISH
UID:c76ffede-5877-4a89-a028-b8cf5136ee08
X-WR-CALDESC:Únase al Grupo Latino para un almuerzo compartido el sábado 4 
 de mayo de 12:30 p. m. a 3 p. m. Conozca otras familias de habla hispana q
 ue tienen un ser querido con síndrome de Down. Este evento es para familia
 s de todas las edades.\n\nEl parque cuenta con un área de juegos para edad
 es múltiples\, senderos para caminar\, campos y baños.\n\nHaz clic en el e
 nlace Regístrate Genius para indicar qué plato puedes traer. (https://www.
 signupgenius.com/go/4090E4EAEAB2CA2F58-48898471-almuerzo)
X-WR-RELCALID:3d3c5f9180a238f6f0f46327619688ae
X-WR-TIMEZONE:America/New_York
BEGIN:VTIMEZONE
TZID:America/New_York
BEGIN:STANDARD
TZNAME:EST
DTSTART:20231105T020000
TZOFFSETFROM:-0400
TZOFFSETTO:-0500
RDATE:20241103T020000
RDATE:20251102T020000
END:STANDARD
BEGIN:DAYLIGHT
TZNAME:EDT
DTSTART:20240310T020000
TZOFFSETFROM:-0500
TZOFFSETTO:-0400
RDATE:20250309T020000
END:DAYLIGHT
END:VTIMEZONE
BEGIN:VEVENT
UID:6b091aa7-c52e-45d2-98ca-96bd61aaae09
DTSTAMP:20260419T233852Z
DESCRIPTION:Únase al Grupo Latino para un almuerzo compartido el sábado 4 d
 e mayo de 12:30 p. m. a 3 p. m. Conozca otras familias de habla hispana qu
 e tienen un ser querido con síndrome de Down. Este evento es para familias
  de todas las edades.\n\nEl parque cuenta con un área de juegos para edade
 s múltiples\, senderos para caminar\, campos y baños.\n\nHaz clic en el en
 lace Regístrate Genius para indicar qué plato puedes traer. (https://www.s
 ignupgenius.com/go/4090E4EAEAB2CA2F58-48898471-almuerzo)
DTSTART;TZID=America/New_York:20240504T123000
DTEND;TZID=America/New_York:20240504T150000
LOCATION:Hillandale Local Park\, 10615 New Hampshire Avenue\, Silver Spring
 \, MD 20903 US
SUMMARY:Grupo Latino Almuerzo compartido en Hillendale Park (Pot luck lunch
  at Hillendale Park)
END:VEVENT
END:VCALENDAR
