BEGIN:VCALENDAR
VERSION:2.0
PRODID:-//dsnmc.org//NONSGML kigkonsult.se iCalcreator 2.30.10//
CALSCALE:GREGORIAN
METHOD:PUBLISH
UID:9c1d6717-54da-4c6e-b75e-3440f7626de6
X-WR-CALDESC:This free event is geared toward families with children younge
 r than 5 with Down syndrome\, families new to DSNMC\, families new to Mont
 gomery County and families with a pre-natal diagnosis.  At the breakfast\,
  you will meet DSNMC leadership as well as other families caring for young
  children with Ds.  It's a great way to become familiar with DSNMC in a re
 laxed setting. Coffee and breakfast are on us!  We look forward to meeting
  you.
X-WR-RELCALID:0232f804ba8a00f8c635d912253fdff9
X-WR-TIMEZONE:America/New_York
BEGIN:VTIMEZONE
TZID:America/New_York
BEGIN:STANDARD
TZNAME:EST
DTSTART:20231105T020000
TZOFFSETFROM:-0400
TZOFFSETTO:-0500
RDATE:20241103T020000
RDATE:20251102T020000
END:STANDARD
BEGIN:DAYLIGHT
TZNAME:EDT
DTSTART:20240310T020000
TZOFFSETFROM:-0500
TZOFFSETTO:-0400
RDATE:20250309T020000
END:DAYLIGHT
END:VTIMEZONE
BEGIN:VEVENT
UID:3c12860e-4848-4a76-b751-cc5ade95bc25
DTSTAMP:20260419T233415Z
DESCRIPTION:This free event is geared toward families with children younger
  than 5 with Down syndrome\, families new to DSNMC\, families new to Montg
 omery County and families with a pre-natal diagnosis.  At the breakfast\, 
 you will meet DSNMC leadership as well as other families caring for young 
 children with Ds.  It's a great way to become familiar with DSNMC in a rel
 axed setting. Coffee and breakfast are on us!  We look forward to meeting 
 you.
DTSTART;TZID=America/New_York:20240504T100000
DTEND;TZID=America/New_York:20240504T120000
LOCATION:Hillandale Local Park\, 10615 New Hampshire Avenue\, Silver Spring
 \, MD 20903 US
SUMMARY:New Family Breakfast
END:VEVENT
END:VCALENDAR
