BEGIN:VCALENDAR
VERSION:2.0
PRODID:-//dsnmc.org//NONSGML kigkonsult.se iCalcreator 2.30.10//
CALSCALE:GREGORIAN
METHOD:PUBLISH
UID:73aa69c1-978b-41c3-ad21-128d08f5e29b
X-WR-CALDESC:Pot Luck Dinner (for those 20 and older)\nJoin the Self Advoca
 te Community Network and gather with your friends in a beautiful outdoor s
 etting for dinner. We will meet at Picnic Shelter A at Hillendale Local Pa
 rk. DSNMC will provide paper goods\, utensils and drinks. Please use the s
 ign up genius to indicate if you will bring a salad\, entree or dessert. P
 lease bring enough food for 8-10 people. In addition to the picnic shelter
 \, this park has walking trails\, fields and restrooms. Feel free to bring
  along a frisbee\, soccer ball or your favorite outdoor activity. DSNMC st
 aff and volunteers will lead activities for the group and will not be avai
 lable to supervise individual participants. This event will end promptly a
 t 7:00 pm.\n\nWe welcome parents or other support personnel to stay with a
 dults who need supervision.
X-WR-RELCALID:a586456a1a438847ce9b4b1f60434d01
X-WR-TIMEZONE:America/New_York
BEGIN:VTIMEZONE
TZID:America/New_York
BEGIN:STANDARD
TZNAME:EST
DTSTART:20231105T020000
TZOFFSETFROM:-0400
TZOFFSETTO:-0500
RDATE:20241103T020000
RDATE:20251102T020000
END:STANDARD
BEGIN:DAYLIGHT
TZNAME:EDT
DTSTART:20240310T020000
TZOFFSETFROM:-0500
TZOFFSETTO:-0400
RDATE:20250309T020000
END:DAYLIGHT
END:VTIMEZONE
BEGIN:VEVENT
UID:d357a24b-1372-464f-8764-a94e92d9f5ff
DTSTAMP:20260419T233415Z
DESCRIPTION:Pot Luck Dinner (for those 20 and older)\nJoin the Self Advocat
 e Community Network and gather with your friends in a beautiful outdoor se
 tting for dinner. We will meet at Picnic Shelter A at Hillendale Local Par
 k. DSNMC will provide paper goods\, utensils and drinks. Please use the si
 gn up genius to indicate if you will bring a salad\, entree or dessert. Pl
 ease bring enough food for 8-10 people. In addition to the picnic shelter\
 , this park has walking trails\, fields and restrooms. Feel free to bring 
 along a frisbee\, soccer ball or your favorite outdoor activity. DSNMC sta
 ff and volunteers will lead activities for the group and will not be avail
 able to supervise individual participants. This event will end promptly at
  7:00 pm.\n\nWe welcome parents or other support personnel to stay with ad
 ults who need supervision.
DTSTART;TZID=America/New_York:20240504T170000
DTEND;TZID=America/New_York:20240504T190000
LOCATION:Hillandale Local Park\, 10615 New Hampshire Avenue\, Silver Spring
 \, MD 20903 US
SUMMARY:Self Advocate Community Network Picnic Dinner
END:VEVENT
END:VCALENDAR
