BEGIN:VCALENDAR
VERSION:2.0
PRODID:-//dsnmc.org//NONSGML kigkonsult.se iCalcreator 2.30.10//
CALSCALE:GREGORIAN
METHOD:PUBLISH
UID:b1a88606-0874-4449-aa77-0a23fc7500e1
X-WR-CALDESC:All DSNMC members are invited to participate in the Step UP Wa
 lk Planning Committee.  Please email Joy Stein to receive the zoom link fo
 r this meeting.
X-WR-RELCALID:d2bca4b619cbcbeba5ce7bff1fd87ab4
X-WR-TIMEZONE:America/New_York
BEGIN:VTIMEZONE
TZID:America/New_York
BEGIN:STANDARD
TZNAME:EST
DTSTART:20231105T020000
TZOFFSETFROM:-0400
TZOFFSETTO:-0500
RDATE:20241103T020000
RDATE:20251102T020000
END:STANDARD
BEGIN:DAYLIGHT
TZNAME:EDT
DTSTART:20240310T020000
TZOFFSETFROM:-0500
TZOFFSETTO:-0400
RDATE:20250309T020000
END:DAYLIGHT
END:VTIMEZONE
BEGIN:VEVENT
UID:3c6ed088-8268-4857-9aa3-65cbe618ea35
DTSTAMP:20260419T233415Z
DESCRIPTION:All DSNMC members are invited to participate in the Step UP Wal
 k Planning Committee.  Please email Joy Stein to receive the zoom link for
  this meeting.
DTSTART;TZID=America/New_York:20240507T193000
DTEND;TZID=America/New_York:20240507T210000
LOCATION:
SUMMARY:Step Up Walk Committee Meeting
END:VEVENT
END:VCALENDAR
