BEGIN:VCALENDAR
VERSION:2.0
PRODID:-//dsnmc.org//NONSGML kigkonsult.se iCalcreator 2.30.10//
CALSCALE:GREGORIAN
METHOD:PUBLISH
UID:f779ba50-0fae-48d8-8fe9-b7c2081e722b
X-WR-CALDESC:Teen Hangout will resume on May 15th.
X-WR-RELCALID:5a71a4e6199f4725e387b963eee0eb53
X-WR-TIMEZONE:America/New_York
BEGIN:VTIMEZONE
TZID:America/New_York
BEGIN:STANDARD
TZNAME:EST
DTSTART:20231105T020000
TZOFFSETFROM:-0400
TZOFFSETTO:-0500
RDATE:20241103T020000
RDATE:20251102T020000
END:STANDARD
BEGIN:DAYLIGHT
TZNAME:EDT
DTSTART:20240310T020000
TZOFFSETFROM:-0500
TZOFFSETTO:-0400
RDATE:20250309T020000
END:DAYLIGHT
END:VTIMEZONE
BEGIN:VEVENT
UID:415634ca-2ab7-45bb-aaec-9fb2837b3c2b
DTSTAMP:20260419T233806Z
DESCRIPTION:Teen Hangout will resume on May 15th.
DTSTART;TZID=America/New_York:20240509T060000
DTEND;TZID=America/New_York:20240509T060001
LOCATION:https://us02web.zoom.us/j/83919769645
SUMMARY:No Teen Hangout today - see you next week!
END:VEVENT
END:VCALENDAR
