BEGIN:VCALENDAR
VERSION:2.0
PRODID:-//dsnmc.org//NONSGML kigkonsult.se iCalcreator 2.30.10//
CALSCALE:GREGORIAN
METHOD:PUBLISH
UID:1553a17a-6e14-419e-9d27-aded40529d7b
X-WR-CALDESC:
X-WR-RELCALID:a2afed37c3778fbf67207b84fe38cc59
X-WR-TIMEZONE:America/New_York
BEGIN:VTIMEZONE
TZID:America/New_York
BEGIN:STANDARD
TZNAME:EST
DTSTART:20231105T020000
TZOFFSETFROM:-0400
TZOFFSETTO:-0500
RDATE:20241103T020000
RDATE:20251102T020000
END:STANDARD
BEGIN:DAYLIGHT
TZNAME:EDT
DTSTART:20240310T020000
TZOFFSETFROM:-0500
TZOFFSETTO:-0400
RDATE:20250309T020000
END:DAYLIGHT
END:VTIMEZONE
BEGIN:VEVENT
UID:27cec787-17fb-44e8-b4ee-057aaaaadf6f
DTSTAMP:20260419T233309Z
DESCRIPTION:
DTSTART;TZID=America/New_York:20240512T000000
DTEND;TZID=America/New_York:20240512T233000
LOCATION:
SUMMARY:Mother's Day
END:VEVENT
END:VCALENDAR
