BEGIN:VCALENDAR
VERSION:2.0
PRODID:-//dsnmc.org//NONSGML kigkonsult.se iCalcreator 2.30.10//
CALSCALE:GREGORIAN
METHOD:PUBLISH
UID:5321eab8-57e1-4b54-9e05-7c1e6b07415f
X-WR-CALDESC:The Self-Advocate Community Network is going to Swingers Crazy
  Golf in DUPONT CIRCLE!!  Spots are limited\, so reserve yours today!\n\nF
 REE ADMISSION thanks to a generous donation from our own THERESA BROGAN.\n
 \nWe will play mini golf (with a crazy twist)\, and there will be food and
  drinks to purchase in their food truck court. All attendees must bring th
 eir ID and be 21 or older.\n\n
X-WR-RELCALID:0eaa80be77f7579339f5fe9315a35ce8
X-WR-TIMEZONE:America/New_York
BEGIN:VTIMEZONE
TZID:America/New_York
BEGIN:STANDARD
TZNAME:EST
DTSTART:20231105T020000
TZOFFSETFROM:-0400
TZOFFSETTO:-0500
RDATE:20241103T020000
RDATE:20251102T020000
END:STANDARD
BEGIN:DAYLIGHT
TZNAME:EDT
DTSTART:20240310T020000
TZOFFSETFROM:-0500
TZOFFSETTO:-0400
RDATE:20250309T020000
END:DAYLIGHT
END:VTIMEZONE
BEGIN:VEVENT
UID:b34b68aa-9868-49f9-9bda-afcb1d881d31
DTSTAMP:20260419T233407Z
DESCRIPTION:The Self-Advocate Community Network is going to Swingers Crazy 
 Golf in DUPONT CIRCLE!!  Spots are limited\, so reserve yours today!\n\nFR
 EE ADMISSION thanks to a generous donation from our own THERESA BROGAN.\n
 \nWe will play mini golf (with a crazy twist)\, and there will be food and
  drinks to purchase in their food truck court. All attendees must bring th
 eir ID and be 21 or older.\n\n
DTSTART;TZID=America/New_York:20240518T164500
DTEND;TZID=America/New_York:20240518T184500
LOCATION:1330 19th St NW\, Washington\, DC 20036 US
SUMMARY:Swingers Crazy Golf
END:VEVENT
END:VCALENDAR
