BEGIN:VCALENDAR
VERSION:2.0
PRODID:-//dsnmc.org//NONSGML kigkonsult.se iCalcreator 2.30.10//
CALSCALE:GREGORIAN
METHOD:PUBLISH
UID:4e941330-0ce2-410e-ac8a-362b20792059
X-WR-CALDESC:Join your friends in person for a Positively Speaking by Art S
 tream class on January 21st\, from 3:00 - 4:30. While the self-advocates a
 re working on communication skills\, there will be a separate room availab
 le for parents to congregate\, share resources\, and socialize.\n\nThis mo
 nth\, we will be creating a Play in a Day\n\nEver wonder how an original A
 rtStream play begins?  We will create short\, devised scenes/playlets as w
 e reveal how our shows are created.  YOU DO NOT WANT TO MISS THIS LAST CLA
 SS! \n\nThis class is limited to 15 participants.\n\n
X-WR-RELCALID:c9cb986cace5a67f43f11acea14025e3
X-WR-TIMEZONE:America/New_York
BEGIN:VTIMEZONE
TZID:America/New_York
BEGIN:STANDARD
TZNAME:EST
DTSTART:20231105T020000
TZOFFSETFROM:-0400
TZOFFSETTO:-0500
RDATE:20241103T020000
RDATE:20251102T020000
END:STANDARD
BEGIN:DAYLIGHT
TZNAME:EDT
DTSTART:20240310T020000
TZOFFSETFROM:-0500
TZOFFSETTO:-0400
RDATE:20250309T020000
END:DAYLIGHT
END:VTIMEZONE
BEGIN:VEVENT
UID:dbd1b0e2-3557-4394-80fb-9cd1c7b67d68
DTSTAMP:20260419T233248Z
DESCRIPTION:Join your friends in person for a Positively Speaking by Art St
 ream class on January 21st\, from 3:00 - 4:30. While the self-advocates ar
 e working on communication skills\, there will be a separate room availabl
 e for parents to congregate\, share resources\, and socialize.\n\nThis mon
 th\, we will be creating a Play in a Day\n\nEver wonder how an original Ar
 tStream play begins?  We will create short\, devised scenes/playlets as we
  reveal how our shows are created.  YOU DO NOT WANT TO MISS THIS LAST CLAS
 S! \n\nThis class is limited to 15 participants.\n\n
DTSTART;TZID=America/New_York:20240519T150000
DTEND;TZID=America/New_York:20240519T163000
LOCATION:North  Chevy Chase Christian Church\, 8814 Kensington Parkway\, Ch
 evy Chase\, MD 20815 US
SUMMARY:ArtStream Positively Speaking Workshop
END:VEVENT
END:VCALENDAR
