BEGIN:VCALENDAR
VERSION:2.0
PRODID:-//dsnmc.org//NONSGML kigkonsult.se iCalcreator 2.30.10//
CALSCALE:GREGORIAN
METHOD:PUBLISH
UID:7dfa331c-625c-4ce1-9b21-c64802591274
X-WR-CALDESC:In the Teen/Adult Dance class\, Metropolitan Ballet Theatre & 
 Academy will introduce students to the fundamentals of dance technique whi
 le exploring different genres such as ballet\, jazz\, modern\, and more. S
 tudents will work on gaining strength and coordination all while exploring
  their artistry and creativity. Each week students will learn fun choreogr
 aphy designed for DSNMC that explores many of the new dance techniques and
  moves learned in each class.\n\nStudents should wear comfortable clothing
 \, such as leggings and t-shirts. When selecting clothing\, please keep in
  mind that the studennts may be doing some upside-down movements. Particip
 ants should be barefoot or wear ballet slippers\, and may bring a water bo
 ttle with them to class\,\n\nThere will be no class on March 17th\, and th
 e registrants are instead invited to watch a performance of Coppelia.\n\nI
 f you need financial assistance to attend this program\, please email Joy.
X-WR-RELCALID:a4cdc3e10599862be4e23de1a5008a30
X-WR-TIMEZONE:America/New_York
BEGIN:VTIMEZONE
TZID:America/New_York
BEGIN:STANDARD
TZNAME:EST
DTSTART:20231105T020000
TZOFFSETFROM:-0400
TZOFFSETTO:-0500
RDATE:20241103T020000
RDATE:20251102T020000
END:STANDARD
BEGIN:DAYLIGHT
TZNAME:EDT
DTSTART:20240310T020000
TZOFFSETFROM:-0500
TZOFFSETTO:-0400
RDATE:20250309T020000
END:DAYLIGHT
END:VTIMEZONE
BEGIN:VEVENT
UID:f08493b3-548c-41fe-8376-c3f01d440814
DTSTAMP:20260419T233547Z
DESCRIPTION:In the Teen/Adult Dance class\, Metropolitan Ballet Theatre & A
 cademy will introduce students to the fundamentals of dance technique whil
 e exploring different genres such as ballet\, jazz\, modern\, and more. St
 udents will work on gaining strength and coordination all while exploring 
 their artistry and creativity. Each week students will learn fun choreogra
 phy designed for DSNMC that explores many of the new dance techniques and 
 moves learned in each class.\n\nStudents should wear comfortable clothing\
 , such as leggings and t-shirts. When selecting clothing\, please keep in 
 mind that the studennts may be doing some upside-down movements. Participa
 nts should be barefoot or wear ballet slippers\, and may bring a water bot
 tle with them to class\,\n\nThere will be no class on March 17th\, and the
  registrants are instead invited to watch a performance of Coppelia.\n\nIf
  you need financial assistance to attend this program\, please email Joy.
DTSTART;TZID=America/New_York:20240519T110000
DTEND;TZID=America/New_York:20240519T115500
LOCATION:Metropolitan Ballet Theatre & Academy\, 220 Perry Pkwy #8 \, Gaith
 ersburg \, MD 20877 US
SUMMARY:Teen /Adult Dance Class
END:VEVENT
END:VCALENDAR
