BEGIN:VCALENDAR
VERSION:2.0
PRODID:-//dsnmc.org//NONSGML kigkonsult.se iCalcreator 2.30.10//
CALSCALE:GREGORIAN
METHOD:PUBLISH
UID:8237b72f-582d-46b7-9194-5405b1c3665e
X-WR-CALDESC:
X-WR-RELCALID:af9d907aea4edfc8c4e69437902d6313
X-WR-TIMEZONE:America/New_York
BEGIN:VTIMEZONE
TZID:America/New_York
BEGIN:STANDARD
TZNAME:EST
DTSTART:20231105T020000
TZOFFSETFROM:-0400
TZOFFSETTO:-0500
RDATE:20241103T020000
RDATE:20251102T020000
END:STANDARD
BEGIN:DAYLIGHT
TZNAME:EDT
DTSTART:20240310T020000
TZOFFSETFROM:-0500
TZOFFSETTO:-0400
RDATE:20250309T020000
END:DAYLIGHT
END:VTIMEZONE
BEGIN:VEVENT
UID:e7c4573d-6a00-4916-b643-ddb9ff3f1433
DTSTAMP:20260419T233249Z
DESCRIPTION:
DTSTART;TZID=America/New_York:20240520T193000
DTEND;TZID=America/New_York:20240520T210000
LOCATION:
SUMMARY:Board Meeting
END:VEVENT
END:VCALENDAR
