BEGIN:VCALENDAR
VERSION:2.0
PRODID:-//dsnmc.org//NONSGML kigkonsult.se iCalcreator 2.30.10//
CALSCALE:GREGORIAN
METHOD:PUBLISH
UID:a3653b75-7e4d-4268-b8e9-9827e60860dc
X-WR-CALDESC:Individuals with Down syndrome (DS) are at risk for a variety 
 of neurologic conditions across the lifespan ranging from epilepsy to Alzh
 eimer's disease. Down Syndrome Regression Disorder (DSRD) is a rare condit
 ion affecting teens and young adults with DS that causes a rapid deteriora
 tion in their ability to function along with insomnia\, catatonia\, halluc
 inations\, and new autistic features. This condition is severe but treatab
 le. Join us for an informative presentation when NIH physicians will delve
  into understanding DSRD\, distinguishing it from other neurological condi
 tions\, and exploring available treatments. Learn how the National Institu
 tes of Health (NIH)\, INCLUDE (INvestigation of Co-occurring conditions ac
 ross the Lifespan to Understand Down syndromE) Project is contributing to 
 the acceleration of research advances in people with DS across the lifespa
 n. Don’t miss out–register today!
X-WR-RELCALID:2c4db3b4bc8e033f9ae82a3d53e2da69
X-WR-TIMEZONE:America/New_York
BEGIN:VTIMEZONE
TZID:America/New_York
BEGIN:STANDARD
TZNAME:EST
DTSTART:20231105T020000
TZOFFSETFROM:-0400
TZOFFSETTO:-0500
RDATE:20241103T020000
RDATE:20251102T020000
END:STANDARD
BEGIN:DAYLIGHT
TZNAME:EDT
DTSTART:20240310T020000
TZOFFSETFROM:-0500
TZOFFSETTO:-0400
RDATE:20250309T020000
END:DAYLIGHT
END:VTIMEZONE
BEGIN:VEVENT
UID:4b2371d1-422a-465a-a642-d4620108ca8c
DTSTAMP:20260419T233917Z
DESCRIPTION:Individuals with Down syndrome (DS) are at risk for a variety o
 f neurologic conditions across the lifespan ranging from epilepsy to Alzhe
 imer's disease. Down Syndrome Regression Disorder (DSRD) is a rare conditi
 on affecting teens and young adults with DS that causes a rapid deteriorat
 ion in their ability to function along with insomnia\, catatonia\, halluci
 nations\, and new autistic features. This condition is severe but treatabl
 e. Join us for an informative presentation when NIH physicians will delve 
 into understanding DSRD\, distinguishing it from other neurological condit
 ions\, and exploring available treatments. Learn how the National Institut
 es of Health (NIH)\, INCLUDE (INvestigation of Co-occurring conditions acr
 oss the Lifespan to Understand Down syndromE) Project is contributing to t
 he acceleration of research advances in people with DS across the lifespan
 . Don’t miss out–register today!
DTSTART;TZID=America/New_York:20240523T190000
DTEND;TZID=America/New_York:20240523T203000
LOCATION:
SUMMARY:Down Syndrome Regression Disorder: Symptoms\, Treatments and How to
  Manage
END:VEVENT
END:VCALENDAR
