BEGIN:VCALENDAR
VERSION:2.0
PRODID:-//dsnmc.org//NONSGML kigkonsult.se iCalcreator 2.30.10//
CALSCALE:GREGORIAN
METHOD:PUBLISH
UID:c3e6d317-b406-4f09-98b9-a2fc16a25740
X-WR-CALDESC:All teens and adults are invited to attend a dance party on Sa
 turday\, June 1st from 7:00 to 9:00 pm. DSNMC member Anderson Jones will D
 J this party and play your favorite tunes!\n\nCold drinks and snacks will 
 be provided.\n\nTickets are $5.00 per person. Please contact Joy at admin@
 dsnmc.org if you need a scholarship to attend this event.\n\nWe welcome pa
 rents or other support personnel to stay with teens/adults who need superv
 ision. DSNMC staff and volunteers will not be available to supervise indiv
 idual participants.
X-WR-RELCALID:57ed5949d7f50d62a42ee45f68fb8dd7
X-WR-TIMEZONE:America/New_York
BEGIN:VTIMEZONE
TZID:America/New_York
BEGIN:STANDARD
TZNAME:EST
DTSTART:20231105T020000
TZOFFSETFROM:-0400
TZOFFSETTO:-0500
RDATE:20241103T020000
RDATE:20251102T020000
END:STANDARD
BEGIN:DAYLIGHT
TZNAME:EDT
DTSTART:20240310T020000
TZOFFSETFROM:-0500
TZOFFSETTO:-0400
RDATE:20250309T020000
END:DAYLIGHT
END:VTIMEZONE
BEGIN:VEVENT
UID:a5010cce-3177-46a8-a327-e5973646d024
DTSTAMP:20260419T223231Z
DESCRIPTION:All teens and adults are invited to attend a dance party on Sat
 urday\, June 1st from 7:00 to 9:00 pm. DSNMC member Anderson Jones will DJ
  this party and play your favorite tunes!\n\nCold drinks and snacks will b
 e provided.\n\nTickets are $5.00 per person. Please contact Joy at admin@d
 snmc.org if you need a scholarship to attend this event.\n\nWe welcome par
 ents or other support personnel to stay with teens/adults who need supervi
 sion. DSNMC staff and volunteers will not be available to supervise indivi
 dual participants.
DTSTART;TZID=America/New_York:20240601T190000
DTEND;TZID=America/New_York:20240601T210000
LOCATION:River Road Unitarian Universalist Congregation\, 6301 River Road\,
  Bethesda\, MD 20817 US
SUMMARY:Teen /Adult Dance Party
END:VEVENT
END:VCALENDAR
