BEGIN:VCALENDAR
VERSION:2.0
PRODID:-//dsnmc.org//NONSGML kigkonsult.se iCalcreator 2.30.10//
CALSCALE:GREGORIAN
METHOD:PUBLISH
UID:6cb7dcd6-7e73-40fd-95d3-1618d2ad4629
X-WR-CALDESC:Desplácese hacia abajo para ver la traducción al español.\n\nJ
 oin us at the Park Pavilion at Bohrer Park in Gaithersburg\, for food\, ga
 mes\, and friendship. Jersey Mike's is providing sandwiches\, chips\, drin
 ks\, and dessert. This in-person event will occur rain or shine! The cost 
 to attend this event is $5.00 per person\; children 3 and under are free.
 \n\nAt noon\, DSNMC leadership will welcome you to the event\, share updat
 es\, and launch the 2024 Step UP Walk. Lunch will be served from 12:15 to 
 1:30.\n\nActivities such as games\, coloring\, bubbles\, a moon bounce and
  more will be offered from 11:30 am to 1:30 pm. We needs lots of volunteer
 s to assist with these activities. Adults\, self-advocates and teens needi
 ng SSL hours can volunteer at the time of registration\, using the sign up
  genius.\n\nWe expect over 200 people to attend the picnic\, and it will b
 e a wonderful time to reconnect with old friends and meet new ones. We hav
 e a large covered shelter with picnic tables and we encourage families to 
 bring chairs and picnic blankets. Due to the large turnout\, the picnic sh
 elter does not have enough seating for all our guests. We will have water 
 bottles available and we encourage you to bring your own reusable water bo
 ttles to be environmentally friendly.\n\nBohrer Park is located 506 S Fred
 erick Avenue\, Gaithersburg\, MD. The park is accessible by public transpo
 rtation\, and has a large parking lot and restrooms.\n\nThe final day to p
 urchase tickets will be Tuesday\, June 4th. Tickets will NOT be available 
 on site.\n\nPlease contact Joy Stein at admin@dsnmc.org to make arrangemen
 ts to pay cash at the event\, or if you need a scholarship to attend the p
 icnic.\nÚnase a nosotros en el Park Pavilion en Bohrer Park en Gaithersbur
 g para disfrutar de comida\, juegos y amistad. Jersey Mike's ofrece sándwi
 ches\, patatas fritas\, bebidas y postres. ¡Este evento en persona se llev
 ará a cabo con lluvia o sol! El costo para asistir a este evento es de $5.
 00 por persona\; Los niños menores de 3 años entran gratis.\nAl mediodía\,
  el liderazgo de DSNMC le dará la bienvenida al evento\, compartirá actual
 izaciones y lanzará la Caminata Step UP 2024. El almuerzo se servirá de 12
 :15 a 1:30.\nSe ofrecerán actividades como juegos\, colorear\, burbujas\, 
 rebote de luna y más de 11:30 am a 1:30 pm. Necesitamos muchos voluntarios
  para ayudar con estas actividades. Los adultos\, los autogestores y los a
 dolescentes que necesiten horas SSL pueden ofrecerse como voluntarios util
 izando Sign-Up genio.\nEsperamos que asistan más de 200 personas al picnic
  y será un momento maravilloso para reconectarse con viejos amigos y conoc
 er otros nuevos. Contamos con un gran refugio cubierto con mesas de picnic
  y animamos a las familias a traer sillas y mantas de picnic. Debido a la 
 gran afluencia de público\, la zona de picnic no tiene suficientes asiento
 s para todos nuestros invitados. Tendremos botellas de agua disponibles y 
 te animamos a que traigas tus propias botellas de agua reutilizables para 
 ser respetuosos con el medio ambiente.\nBohrer Park está ubicado en 506 S 
 Frederick Avenue\, Gaithersburg\, MD. Se puede acceder al parque en transp
 orte público y cuenta con un amplio estacionamiento y baños.\nEl último dí
 a para comprar boletos será el martes 4 de junio. Los boletos NO estarán d
 isponibles en el sitio.\nComuníquese con Joy Stein para hacer arreglos par
 a pagar en efectivo en el evento o si necesita una beca para asistir al pi
 cnic.\n
X-WR-RELCALID:6fd942b5bda7b09dd8c77da116136e36
X-WR-TIMEZONE:America/New_York
BEGIN:VTIMEZONE
TZID:America/New_York
BEGIN:STANDARD
TZNAME:EST
DTSTART:20231105T020000
TZOFFSETFROM:-0400
TZOFFSETTO:-0500
RDATE:20241103T020000
RDATE:20251102T020000
END:STANDARD
BEGIN:DAYLIGHT
TZNAME:EDT
DTSTART:20240310T020000
TZOFFSETFROM:-0500
TZOFFSETTO:-0400
RDATE:20250309T020000
END:DAYLIGHT
END:VTIMEZONE
BEGIN:VEVENT
UID:70512157-6535-425d-97b2-c3432a440482
DTSTAMP:20260419T223052Z
DESCRIPTION:Desplácese hacia abajo para ver la traducción al español.\n\nJo
 in us at the Park Pavilion at Bohrer Park in Gaithersburg\, for food\, gam
 es\, and friendship. Jersey Mike's is providing sandwiches\, chips\, drink
 s\, and dessert. This in-person event will occur rain or shine! The cost t
 o attend this event is $5.00 per person\; children 3 and under are free.\n
 \nAt noon\, DSNMC leadership will welcome you to the event\, share updates
 \, and launch the 2024 Step UP Walk. Lunch will be served from 12:15 to 1:
 30.\n\nActivities such as games\, coloring\, bubbles\, a moon bounce and m
 ore will be offered from 11:30 am to 1:30 pm. We needs lots of volunteers 
 to assist with these activities. Adults\, self-advocates and teens needing
  SSL hours can volunteer at the time of registration\, using the sign up g
 enius.\n\nWe expect over 200 people to attend the picnic\, and it will be 
 a wonderful time to reconnect with old friends and meet new ones. We have 
 a large covered shelter with picnic tables and we encourage families to br
 ing chairs and picnic blankets. Due to the large turnout\, the picnic shel
 ter does not have enough seating for all our guests. We will have water bo
 ttles available and we encourage you to bring your own reusable water bott
 les to be environmentally friendly.\n\nBohrer Park is located 506 S Freder
 ick Avenue\, Gaithersburg\, MD. The park is accessible by public transport
 ation\, and has a large parking lot and restrooms.\n\nThe final day to pur
 chase tickets will be Tuesday\, June 4th. Tickets will NOT be available on
  site.\n\nPlease contact Joy Stein at admin@dsnmc.org to make arrangements
  to pay cash at the event\, or if you need a scholarship to attend the pic
 nic.\nÚnase a nosotros en el Park Pavilion en Bohrer Park en Gaithersburg 
 para disfrutar de comida\, juegos y amistad. Jersey Mike's ofrece sándwich
 es\, patatas fritas\, bebidas y postres. ¡Este evento en persona se llevar
 á a cabo con lluvia o sol! El costo para asistir a este evento es de $5.00
  por persona\; Los niños menores de 3 años entran gratis.\nAl mediodía\, e
 l liderazgo de DSNMC le dará la bienvenida al evento\, compartirá actualiz
 aciones y lanzará la Caminata Step UP 2024. El almuerzo se servirá de 12:1
 5 a 1:30.\nSe ofrecerán actividades como juegos\, colorear\, burbujas\, re
 bote de luna y más de 11:30 am a 1:30 pm. Necesitamos muchos voluntarios p
 ara ayudar con estas actividades. Los adultos\, los autogestores y los ado
 lescentes que necesiten horas SSL pueden ofrecerse como voluntarios utiliz
 ando Sign-Up genio.\nEsperamos que asistan más de 200 personas al picnic y
  será un momento maravilloso para reconectarse con viejos amigos y conocer
  otros nuevos. Contamos con un gran refugio cubierto con mesas de picnic y
  animamos a las familias a traer sillas y mantas de picnic. Debido a la gr
 an afluencia de público\, la zona de picnic no tiene suficientes asientos 
 para todos nuestros invitados. Tendremos botellas de agua disponibles y te
  animamos a que traigas tus propias botellas de agua reutilizables para se
 r respetuosos con el medio ambiente.\nBohrer Park está ubicado en 506 S Fr
 ederick Avenue\, Gaithersburg\, MD. Se puede acceder al parque en transpor
 te público y cuenta con un amplio estacionamiento y baños.\nEl último día 
 para comprar boletos será el martes 4 de junio. Los boletos NO estarán dis
 ponibles en el sitio.\nComuníquese con Joy Stein para hacer arreglos para 
 pagar en efectivo en el evento o si necesita una beca para asistir al picn
 ic.\n
DTSTART;TZID=America/New_York:20240609T113000
DTEND;TZID=America/New_York:20240609T140000
LOCATION:Park Pavilion at Bohrer Park \, 506 S. Frederick Avenue\, Gaithers
 burg\, MD 20877 US
SUMMARY:DSNMC Annual Summer Picnic
END:VEVENT
END:VCALENDAR
