BEGIN:VCALENDAR
VERSION:2.0
PRODID:-//dsnmc.org//NONSGML kigkonsult.se iCalcreator 2.30.10//
CALSCALE:GREGORIAN
METHOD:PUBLISH
UID:8cf52107-8533-4d3e-b5fd-9d59957806fb
X-WR-CALDESC:Have you wanted to participate in the Step UP Walk but didn't 
 know how to set up a team?\n\nIn this brief virtual workshop\, DSNMC Commu
 nications Coordinator Dylan Rosenthal will show you how easy it is to set 
 up a Step Up Walk team. You will learn how to create a team\, upload a pho
 tograph and invite friends and family to join your team!\n\nThe Step UP Wa
 lk is DSNMC's largest event and fundraiser of the year. Our goal for 2024 
 is 50 teams - can we count on you?
X-WR-RELCALID:945701d5180c34f1b46d2a90c5131b27
X-WR-TIMEZONE:America/New_York
BEGIN:VTIMEZONE
TZID:America/New_York
BEGIN:STANDARD
TZNAME:EST
DTSTART:20231105T020000
TZOFFSETFROM:-0400
TZOFFSETTO:-0500
RDATE:20241103T020000
RDATE:20251102T020000
END:STANDARD
BEGIN:DAYLIGHT
TZNAME:EDT
DTSTART:20240310T020000
TZOFFSETFROM:-0500
TZOFFSETTO:-0400
RDATE:20250309T020000
END:DAYLIGHT
END:VTIMEZONE
BEGIN:VEVENT
UID:89cbe678-81db-40eb-a59e-36b930bda9df
DTSTAMP:20260419T222845Z
DESCRIPTION:Have you wanted to participate in the Step UP Walk but didn't k
 now how to set up a team?\n\nIn this brief virtual workshop\, DSNMC Commun
 ications Coordinator Dylan Rosenthal will show you how easy it is to set u
 p a Step Up Walk team. You will learn how to create a team\, upload a phot
 ograph and invite friends and family to join your team!\n\nThe Step UP Wal
 k is DSNMC's largest event and fundraiser of the year. Our goal for 2024 i
 s 50 teams - can we count on you?
DTSTART;TZID=America/New_York:20240611T193000
DTEND;TZID=America/New_York:20240611T203000
LOCATION:
SUMMARY:Learn how to create a Step Up Walk team
END:VEVENT
END:VCALENDAR
