BEGIN:VCALENDAR
VERSION:2.0
PRODID:-//dsnmc.org//NONSGML kigkonsult.se iCalcreator 2.30.10//
CALSCALE:GREGORIAN
METHOD:PUBLISH
UID:910cf7a1-7fa0-408b-b10a-c273a559d518
X-WR-CALDESC:
X-WR-RELCALID:f57604e83e8ec843f2b7399939e5bf1d
X-WR-TIMEZONE:America/New_York
BEGIN:VTIMEZONE
TZID:America/New_York
BEGIN:STANDARD
TZNAME:EST
DTSTART:20231105T020000
TZOFFSETFROM:-0400
TZOFFSETTO:-0500
RDATE:20241103T020000
RDATE:20251102T020000
END:STANDARD
BEGIN:DAYLIGHT
TZNAME:EDT
DTSTART:20240310T020000
TZOFFSETFROM:-0500
TZOFFSETTO:-0400
RDATE:20250309T020000
END:DAYLIGHT
END:VTIMEZONE
BEGIN:VEVENT
UID:95974aa7-e6e4-4088-84db-41d16cda4e11
DTSTAMP:20260419T223216Z
DESCRIPTION:
DTSTART;TZID=America/New_York:20240612T203000
DTEND;TZID=America/New_York:20240612T220000
LOCATION:
SUMMARY:New Family Outreach Committee
END:VEVENT
END:VCALENDAR
