BEGIN:VCALENDAR
VERSION:2.0
PRODID:-//dsnmc.org//NONSGML kigkonsult.se iCalcreator 2.30.10//
CALSCALE:GREGORIAN
METHOD:PUBLISH
UID:7ffade28-8cb0-415a-91b3-5e165f4803fa
X-WR-CALDESC:All are welcome to help us plan this year's Step Up Walk.  Ple
 ase join this month's meeting - this is a great way to get involved with D
 SNMC.\n\nEmail brooke@dsnmc to request the zoom link.
X-WR-RELCALID:c46dca8b119d2d2356507b95d9af6ef7
X-WR-TIMEZONE:America/New_York
BEGIN:VTIMEZONE
TZID:America/New_York
BEGIN:STANDARD
TZNAME:EST
DTSTART:20231105T020000
TZOFFSETFROM:-0400
TZOFFSETTO:-0500
RDATE:20241103T020000
RDATE:20251102T020000
END:STANDARD
BEGIN:DAYLIGHT
TZNAME:EDT
DTSTART:20240310T020000
TZOFFSETFROM:-0500
TZOFFSETTO:-0400
RDATE:20250309T020000
END:DAYLIGHT
END:VTIMEZONE
BEGIN:VEVENT
UID:e3675cf8-c68c-4947-9e73-c207d8d535ef
DTSTAMP:20260419T223006Z
DESCRIPTION:All are welcome to help us plan this year's Step Up Walk.  Plea
 se join this month's meeting - this is a great way to get involved with DS
 NMC.\n\nEmail brooke@dsnmc to request the zoom link.
DTSTART;TZID=America/New_York:20240613T193000
DTEND;TZID=America/New_York:20240613T210000
LOCATION:
SUMMARY:Step Up Walk Committee Meeting
END:VEVENT
END:VCALENDAR
