BEGIN:VCALENDAR
VERSION:2.0
PRODID:-//dsnmc.org//NONSGML kigkonsult.se iCalcreator 2.30.10//
CALSCALE:GREGORIAN
METHOD:PUBLISH
UID:f4dc28c7-f76e-4572-8d9f-f40c3cea55ec
X-WR-CALDESC:
X-WR-RELCALID:dc6b5da0b58e2e5d433c568c47bdc16a
X-WR-TIMEZONE:America/New_York
BEGIN:VTIMEZONE
TZID:America/New_York
BEGIN:STANDARD
TZNAME:EST
DTSTART:20231105T020000
TZOFFSETFROM:-0400
TZOFFSETTO:-0500
RDATE:20241103T020000
RDATE:20251102T020000
END:STANDARD
BEGIN:DAYLIGHT
TZNAME:EDT
DTSTART:20240310T020000
TZOFFSETFROM:-0500
TZOFFSETTO:-0400
RDATE:20250309T020000
END:DAYLIGHT
END:VTIMEZONE
BEGIN:VEVENT
UID:2ecfd72c-1c5d-42b0-9f6d-9b784c004d50
DTSTAMP:20260419T222845Z
DESCRIPTION:
DTSTART;TZID=America/New_York:20240616T000000
DTEND;TZID=America/New_York:20240616T233000
LOCATION:
SUMMARY:Father's Day
END:VEVENT
END:VCALENDAR
