BEGIN:VCALENDAR
VERSION:2.0
PRODID:-//dsnmc.org//NONSGML kigkonsult.se iCalcreator 2.30.10//
CALSCALE:GREGORIAN
METHOD:PUBLISH
UID:dea9ea33-64c0-422e-8730-27767ce1468b
X-WR-CALDESC:
X-WR-RELCALID:57bd16be62241dd6e0c244a0b1f6c7f9
X-WR-TIMEZONE:America/New_York
BEGIN:VTIMEZONE
TZID:America/New_York
BEGIN:STANDARD
TZNAME:EST
DTSTART:20231105T020000
TZOFFSETFROM:-0400
TZOFFSETTO:-0500
RDATE:20241103T020000
RDATE:20251102T020000
END:STANDARD
BEGIN:DAYLIGHT
TZNAME:EDT
DTSTART:20240310T020000
TZOFFSETFROM:-0500
TZOFFSETTO:-0400
RDATE:20250309T020000
END:DAYLIGHT
END:VTIMEZONE
BEGIN:VEVENT
UID:e7548e11-91c6-4c3e-9bbb-2310ecd06bfb
DTSTAMP:20260419T222855Z
DESCRIPTION:
DTSTART;TZID=America/New_York:20240619T000000
DTEND;TZID=America/New_York:20240619T233000
LOCATION:
SUMMARY:Juneteenth\, DSNMC office closed
END:VEVENT
END:VCALENDAR
