BEGIN:VCALENDAR
VERSION:2.0
PRODID:-//dsnmc.org//NONSGML kigkonsult.se iCalcreator 2.30.10//
CALSCALE:GREGORIAN
METHOD:PUBLISH
UID:a88da35a-d094-477b-ada5-d0302094d487
X-WR-CALDESC:This committee will discuss goals\, objectives and strategies 
 to support the needs of our transitioning youth families.\n\nJoin Zoom Mee
 ting\nhttps://us02web.zoom.us/j/85459406072?pwd=dkJBeGc2WVN0M0tRQyt5V1NpWE
 Mydz09\n\nMeeting ID: 854 5940 6072\nPasscode: 571463
X-WR-RELCALID:2a9d6f87d435f5b909afb08b291b2009
X-WR-TIMEZONE:America/New_York
BEGIN:VTIMEZONE
TZID:America/New_York
BEGIN:STANDARD
TZNAME:EST
DTSTART:20231105T020000
TZOFFSETFROM:-0400
TZOFFSETTO:-0500
RDATE:20241103T020000
RDATE:20251102T020000
END:STANDARD
BEGIN:DAYLIGHT
TZNAME:EDT
DTSTART:20240310T020000
TZOFFSETFROM:-0500
TZOFFSETTO:-0400
RDATE:20250309T020000
END:DAYLIGHT
END:VTIMEZONE
BEGIN:VEVENT
UID:9dec867e-6dc0-43cb-b938-e8645603ad5f
DTSTAMP:20260419T223205Z
DESCRIPTION:This committee will discuss goals\, objectives and strategies t
 o support the needs of our transitioning youth families.\n\nJoin Zoom Meet
 ing\nhttps://us02web.zoom.us/j/85459406072?pwd=dkJBeGc2WVN0M0tRQyt5V1NpWEM
 ydz09\n\nMeeting ID: 854 5940 6072\nPasscode: 571463
DTSTART;TZID=America/New_York:20240620T190000
DTEND;TZID=America/New_York:20240620T200000
LOCATION:
SUMMARY:Transitioning Youth and Adult Committee
END:VEVENT
END:VCALENDAR
